BEGIN:VCALENDAR
VERSION:2.0
PRODID:-//St Thomas United Church NW Calgary - ECPv6.15.20//NONSGML v1.0//EN
CALSCALE:GREGORIAN
METHOD:PUBLISH
X-WR-CALNAME:St Thomas United Church NW Calgary
X-ORIGINAL-URL:https://stthomasunited.ca
X-WR-CALDESC:Events for St Thomas United Church NW Calgary
REFRESH-INTERVAL;VALUE=DURATION:PT1H
X-Robots-Tag:noindex
X-PUBLISHED-TTL:PT1H
BEGIN:VTIMEZONE
TZID:America/Edmonton
BEGIN:DAYLIGHT
TZOFFSETFROM:-0700
TZOFFSETTO:-0600
TZNAME:MDT
DTSTART:20240310T090000
END:DAYLIGHT
BEGIN:STANDARD
TZOFFSETFROM:-0600
TZOFFSETTO:-0700
TZNAME:MST
DTSTART:20241103T080000
END:STANDARD
BEGIN:DAYLIGHT
TZOFFSETFROM:-0700
TZOFFSETTO:-0600
TZNAME:MDT
DTSTART:20250309T090000
END:DAYLIGHT
BEGIN:STANDARD
TZOFFSETFROM:-0600
TZOFFSETTO:-0700
TZNAME:MST
DTSTART:20251102T080000
END:STANDARD
BEGIN:DAYLIGHT
TZOFFSETFROM:-0700
TZOFFSETTO:-0600
TZNAME:MDT
DTSTART:20260308T090000
END:DAYLIGHT
BEGIN:STANDARD
TZOFFSETFROM:-0600
TZOFFSETTO:-0700
TZNAME:MST
DTSTART:20261101T080000
END:STANDARD
END:VTIMEZONE
BEGIN:VEVENT
DTSTART;TZID=America/Edmonton:20250908T140000
DTEND;TZID=America/Edmonton:20250908T150000
DTSTAMP:20260422T044945
CREATED:20250904T170730Z
LAST-MODIFIED:20250904T170730Z
UID:4268-1757340000-1757343600@stthomasunited.ca
SUMMARY:September\, 2025\, Meditation Service
DESCRIPTION:St. Thomas United Church is proud to be able to offer a meditative service. Led By Fiona Craig and Reverend Marion Martin on Monday September 8\, 2025 at 2:00 pm. Please come and join us for this contemplative time.
URL:https://stthomasunited.ca/event/september-2025-meditation-service/
LOCATION:St Thomas United Church\, 100 Hawkwood Blvd NW\, Calgary\, Canada
ATTACH;FMTTYPE=image/png:https://stthomasunited.ca/wp-content/uploads/2025/09/2025-09-08-meditative-worship-1280x720-1.png
END:VEVENT
END:VCALENDAR