BEGIN:VCALENDAR
VERSION:2.0
PRODID:-//St Thomas United Church NW Calgary - ECPv6.15.20//NONSGML v1.0//EN
CALSCALE:GREGORIAN
METHOD:PUBLISH
X-WR-CALNAME:St Thomas United Church NW Calgary
X-ORIGINAL-URL:https://stthomasunited.ca
X-WR-CALDESC:Events for St Thomas United Church NW Calgary
REFRESH-INTERVAL;VALUE=DURATION:PT1H
X-Robots-Tag:noindex
X-PUBLISHED-TTL:PT1H
BEGIN:VTIMEZONE
TZID:America/Edmonton
BEGIN:DAYLIGHT
TZOFFSETFROM:-0700
TZOFFSETTO:-0600
TZNAME:MDT
DTSTART:20240310T090000
END:DAYLIGHT
BEGIN:STANDARD
TZOFFSETFROM:-0600
TZOFFSETTO:-0700
TZNAME:MST
DTSTART:20241103T080000
END:STANDARD
BEGIN:DAYLIGHT
TZOFFSETFROM:-0700
TZOFFSETTO:-0600
TZNAME:MDT
DTSTART:20250309T090000
END:DAYLIGHT
BEGIN:STANDARD
TZOFFSETFROM:-0600
TZOFFSETTO:-0700
TZNAME:MST
DTSTART:20251102T080000
END:STANDARD
BEGIN:DAYLIGHT
TZOFFSETFROM:-0700
TZOFFSETTO:-0600
TZNAME:MDT
DTSTART:20260308T090000
END:DAYLIGHT
BEGIN:STANDARD
TZOFFSETFROM:-0600
TZOFFSETTO:-0700
TZNAME:MST
DTSTART:20261101T080000
END:STANDARD
END:VTIMEZONE
BEGIN:VEVENT
DTSTART;TZID=America/Edmonton:20251126T183000
DTEND;TZID=America/Edmonton:20251126T183000
DTSTAMP:20260422T012737
CREATED:20250910T203534Z
LAST-MODIFIED:20250910T203653Z
UID:4289-1764181800-1764181800@stthomasunited.ca
SUMMARY:November Drumming Circle at Foothills United Church
DESCRIPTION:
URL:https://stthomasunited.ca/event/november-drumming-circle-at-foothills-united-church/
ATTACH;FMTTYPE=image/jpeg:https://stthomasunited.ca/wp-content/uploads/2025/09/2025-11-26-drumming-circle-1280x720-1.jpg
END:VEVENT
END:VCALENDAR