BEGIN:VCALENDAR
VERSION:2.0
PRODID:-//St Thomas United Church NW Calgary - ECPv6.15.20//NONSGML v1.0//EN
CALSCALE:GREGORIAN
METHOD:PUBLISH
X-ORIGINAL-URL:https://stthomasunited.ca
X-WR-CALDESC:Events for St Thomas United Church NW Calgary
REFRESH-INTERVAL;VALUE=DURATION:PT1H
X-Robots-Tag:noindex
X-PUBLISHED-TTL:PT1H
BEGIN:VTIMEZONE
TZID:America/Edmonton
BEGIN:DAYLIGHT
TZOFFSETFROM:-0700
TZOFFSETTO:-0600
TZNAME:MDT
DTSTART:20250309T090000
END:DAYLIGHT
BEGIN:STANDARD
TZOFFSETFROM:-0600
TZOFFSETTO:-0700
TZNAME:MST
DTSTART:20251102T080000
END:STANDARD
BEGIN:DAYLIGHT
TZOFFSETFROM:-0700
TZOFFSETTO:-0600
TZNAME:MDT
DTSTART:20260308T090000
END:DAYLIGHT
BEGIN:STANDARD
TZOFFSETFROM:-0600
TZOFFSETTO:-0700
TZNAME:MST
DTSTART:20261101T080000
END:STANDARD
BEGIN:DAYLIGHT
TZOFFSETFROM:-0700
TZOFFSETTO:-0600
TZNAME:MDT
DTSTART:20270314T090000
END:DAYLIGHT
BEGIN:STANDARD
TZOFFSETFROM:-0600
TZOFFSETTO:-0700
TZNAME:MST
DTSTART:20271107T080000
END:STANDARD
END:VTIMEZONE
BEGIN:VEVENT
DTSTART;TZID=America/Edmonton:20260322T113000
DTEND;TZID=America/Edmonton:20260322T133000
DTSTAMP:20260421T183232
CREATED:20260226T223023Z
LAST-MODIFIED:20260302T195226Z
UID:4474-1774179000-1774186200@stthomasunited.ca
SUMMARY:2026 Annual Congregational Meeting
DESCRIPTION:This year’s ACM will take place after church on Sunday\, March 22\, 2026\, 11:30 am – 1:30 pm. All are welcome!
URL:https://stthomasunited.ca/event/2026-annual-congregational-meeting/
LOCATION:St Thomas United Church\, 100 Hawkwood Blvd NW\, Calgary\, Canada
ATTACH;FMTTYPE=image/jpeg:https://stthomasunited.ca/wp-content/uploads/2025/05/logo-1280x720-1.jpg
END:VEVENT
END:VCALENDAR