BEGIN:VCALENDAR
VERSION:2.0
PRODID:-//St Thomas United Church NW Calgary - ECPv6.15.20//NONSGML v1.0//EN
CALSCALE:GREGORIAN
METHOD:PUBLISH
X-WR-CALNAME:St Thomas United Church NW Calgary
X-ORIGINAL-URL:https://stthomasunited.ca
X-WR-CALDESC:Events for St Thomas United Church NW Calgary
REFRESH-INTERVAL;VALUE=DURATION:PT1H
X-Robots-Tag:noindex
X-PUBLISHED-TTL:PT1H
BEGIN:VTIMEZONE
TZID:America/Edmonton
BEGIN:DAYLIGHT
TZOFFSETFROM:-0700
TZOFFSETTO:-0600
TZNAME:MDT
DTSTART:20220313T090000
END:DAYLIGHT
BEGIN:STANDARD
TZOFFSETFROM:-0600
TZOFFSETTO:-0700
TZNAME:MST
DTSTART:20221106T080000
END:STANDARD
BEGIN:DAYLIGHT
TZOFFSETFROM:-0700
TZOFFSETTO:-0600
TZNAME:MDT
DTSTART:20230312T090000
END:DAYLIGHT
BEGIN:STANDARD
TZOFFSETFROM:-0600
TZOFFSETTO:-0700
TZNAME:MST
DTSTART:20231105T080000
END:STANDARD
BEGIN:DAYLIGHT
TZOFFSETFROM:-0700
TZOFFSETTO:-0600
TZNAME:MDT
DTSTART:20240310T090000
END:DAYLIGHT
BEGIN:STANDARD
TZOFFSETFROM:-0600
TZOFFSETTO:-0700
TZNAME:MST
DTSTART:20241103T080000
END:STANDARD
BEGIN:DAYLIGHT
TZOFFSETFROM:-0700
TZOFFSETTO:-0600
TZNAME:MDT
DTSTART:20250309T090000
END:DAYLIGHT
BEGIN:STANDARD
TZOFFSETFROM:-0600
TZOFFSETTO:-0700
TZNAME:MST
DTSTART:20251102T080000
END:STANDARD
END:VTIMEZONE
BEGIN:VEVENT
DTSTART;TZID=America/Edmonton:20240104T093000
DTEND;TZID=America/Edmonton:20240104T093000
DTSTAMP:20260422T201429
CREATED:20231231T000145Z
LAST-MODIFIED:20231231T004234Z
UID:3176-1704360600-1704360600@stthomasunited.ca
SUMMARY:Decor\, Christmas Down\, Winter Up
DESCRIPTION:
URL:https://stthomasunited.ca/event/decor-christmas-down-winter-up/
CATEGORIES:Affirming,Other
END:VEVENT
BEGIN:VEVENT
DTSTART;TZID=America/Edmonton:20231220T100000
DTEND;TZID=America/Edmonton:20231220T100000
DTSTAMP:20260422T201429
CREATED:20231119T161550Z
LAST-MODIFIED:20231119T173050Z
UID:3121-1703066400-1703066400@stthomasunited.ca
SUMMARY:Advent Study Week 4
DESCRIPTION:Please Join us from November 29 – December 20 at St. Thomas United Church for an Advent Study Wednesday mornings at 10:00 am. \nOur theme for this Advent is based on the book\, A Northern Nativity by William Kurelek.  \nEach session is a stand alone session. \nCoffee/Tea and Goodies will be served. \nCome join us\, everyone welcome.
URL:https://stthomasunited.ca/event/advent-study-week-4/
LOCATION:St Thomas United Church\, 100 Hawkwood Blvd NW\, Calgary\, Canada
CATEGORIES:Other
END:VEVENT
BEGIN:VEVENT
DTSTART;TZID=America/Edmonton:20231213T100000
DTEND;TZID=America/Edmonton:20231213T100000
DTSTAMP:20260422T201429
CREATED:20231119T161147Z
LAST-MODIFIED:20231119T161452Z
UID:3119-1702461600-1702461600@stthomasunited.ca
SUMMARY:Advent Study Week 3
DESCRIPTION:Please Join us from November 29 – December 20 at St. Thomas United Church for an Advent Study Wednesday mornings at 10:00 am. \nOur theme for this Advent is based on the book\, A Northern Nativity by William Kurelek.  \nEach session is a stand alone session. \nCoffee/Tea and Goodies will be served. \nCome join us\, everyone welcome.
URL:https://stthomasunited.ca/event/advent-study-week-3/
LOCATION:St Thomas United Church\, 100 Hawkwood Blvd NW\, Calgary\, Canada
CATEGORIES:Other
END:VEVENT
BEGIN:VEVENT
DTSTART;TZID=America/Edmonton:20231206T100000
DTEND;TZID=America/Edmonton:20231206T100000
DTSTAMP:20260422T201429
CREATED:20231119T161044Z
LAST-MODIFIED:20231119T161615Z
UID:3117-1701856800-1701856800@stthomasunited.ca
SUMMARY:Advent Study Week 2
DESCRIPTION:Please Join us from November 29 – December 20 at St. Thomas United Church for an Advent Study Wednesday mornings at 10:00 am. \nOur theme for this Advent is based on the book\, A Northern Nativity by William Kurelek.  \nEach session is a stand alone session. \nCoffee/Tea and Goodies will be served. \nCome join us\, everyone welcome.
URL:https://stthomasunited.ca/event/advent-study-week-2/
LOCATION:St Thomas United Church\, 100 Hawkwood Blvd NW\, Calgary\, Canada
CATEGORIES:Other
END:VEVENT
BEGIN:VEVENT
DTSTART;TZID=America/Edmonton:20231129T100000
DTEND;TZID=America/Edmonton:20231129T100000
DTSTAMP:20260422T201429
CREATED:20231119T160922Z
LAST-MODIFIED:20231119T161528Z
UID:3114-1701252000-1701252000@stthomasunited.ca
SUMMARY:Advent Study Week 1
DESCRIPTION:Please Join us from November 29 – December 20 at St. Thomas United Church for an Advent Study Wednesday mornings at 10:00 am. \nOur theme for this Advent is based on the book\, A Northern Nativity by William Kurelek.  \nEach session is a stand alone session. \nCoffee/Tea and Goodies will be served. \nCome join us\, everyone welcome.
URL:https://stthomasunited.ca/event/advent-study-week-1/
LOCATION:St Thomas United Church\, 100 Hawkwood Blvd NW\, Calgary\, Canada
CATEGORIES:Other
END:VEVENT
BEGIN:VEVENT
DTSTART;TZID=America/Edmonton:20231128T190000
DTEND;TZID=America/Edmonton:20231128T190000
DTSTAMP:20260422T201429
CREATED:20231121T212028Z
LAST-MODIFIED:20231121T212028Z
UID:3124-1701198000-1701198000@stthomasunited.ca
SUMMARY:United Church of Canada Remit 1
DESCRIPTION:The United Church of Canada has asked Communities of Faith to vote on whether an autonomous national Indigenous organization should be created within the United Church of Canada. \nPlease join the SVUC Board along with members from St. Thomas UC and Foothills UC on Tuesday November 28 at 7:00 pm to learn about the proposal. \nIn advance of the meeting\, please review the United Church of Canada study documents. If you’d like to watch the Town Hall hosted by Chinook Winds Region in which this proposal was discussed\, please use this link. \nAn edited version of this video will be shown when we gather to explore this issue. This evening is open for everyone to attend and participate\, and we look forward to seeing you on November 28.
URL:https://stthomasunited.ca/event/united-church-of-canada-remit-1/
CATEGORIES:Other
END:VEVENT
BEGIN:VEVENT
DTSTART;TZID=America/Edmonton:20231112T113000
DTEND;TZID=America/Edmonton:20231112T130000
DTSTAMP:20260422T201429
CREATED:20231012T205411Z
LAST-MODIFIED:20231012T205411Z
UID:3064-1699788600-1699794000@stthomasunited.ca
SUMMARY:St. Thomas United Church Festive Fair and Sale
DESCRIPTION:
URL:https://stthomasunited.ca/event/st-thomas-united-church-festive-fair-and-sale-2/
CATEGORIES:Other
END:VEVENT
BEGIN:VEVENT
DTSTART;TZID=America/Edmonton:20231112T103000
DTEND;TZID=America/Edmonton:20231112T113000
DTSTAMP:20260422T201429
CREATED:20231106T202208Z
LAST-MODIFIED:20231106T202208Z
UID:3092-1699785000-1699788600@stthomasunited.ca
SUMMARY:Sunday\, November 12\, 2023\, Service.
DESCRIPTION:
URL:https://stthomasunited.ca/event/sunday-november-12-2023-service/
CATEGORIES:Other
END:VEVENT
BEGIN:VEVENT
DTSTART;TZID=America/Edmonton:20231111T100000
DTEND;TZID=America/Edmonton:20231111T140000
DTSTAMP:20260422T201429
CREATED:20231012T205209Z
LAST-MODIFIED:20231012T205209Z
UID:3061-1699696800-1699711200@stthomasunited.ca
SUMMARY:St. Thomas United Church Festive Fair and Sale
DESCRIPTION:
URL:https://stthomasunited.ca/event/st-thomas-united-church-festive-fair-and-sale/
LOCATION:St. Thomas United Church: Upper Parking Lot.\, 100 Hawkwood Blvd. NW.\, Calgary\, AB\, T3G 2S9\, Canada
CATEGORIES:Other
END:VEVENT
BEGIN:VEVENT
DTSTART;TZID=America/Edmonton:20231001T150000
DTEND;TZID=America/Edmonton:20231001T153000
DTSTAMP:20260422T201429
CREATED:20230925T211156Z
LAST-MODIFIED:20230925T211844Z
UID:3016-1696172400-1696174200@stthomasunited.ca
SUMMARY:Pet Blessing
DESCRIPTION:There are few things in our lives more precious than our pets. They are our ever living companions and friends. St. Thomas United Church is proud to be able to have a short service to honor these special companions. Please join us on Sunday October 1\, 2023 at the church for this awesome event.
URL:https://stthomasunited.ca/event/pet-blessing/
LOCATION:St Thomas United Church\, 100 Hawkwood Blvd NW\, Calgary\, Canada
CATEGORIES:Other
END:VEVENT
BEGIN:VEVENT
DTSTART;TZID=America/Edmonton:20230930T090000
DTEND;TZID=America/Edmonton:20230930T160000
DTSTAMP:20260422T201429
CREATED:20230928T193715Z
LAST-MODIFIED:20230928T193715Z
UID:3029-1696064400-1696089600@stthomasunited.ca
SUMMARY:Senior's Wellness Day
DESCRIPTION:
URL:https://stthomasunited.ca/event/seniors-wellness-day/
LOCATION:St Thomas United Church\, 100 Hawkwood Blvd NW\, Calgary\, Canada
CATEGORIES:Other
END:VEVENT
BEGIN:VEVENT
DTSTART;TZID=America/Edmonton:20230922T083000
DTEND;TZID=America/Edmonton:20230923T000000
DTSTAMP:20260422T201429
CREATED:20230913T182829Z
LAST-MODIFIED:20230913T182829Z
UID:2989-1695371400-1695427200@stthomasunited.ca
SUMMARY:Visit to Metis Crossing.
DESCRIPTION:Getting close now\, folks! It’s not too late to plan to join us on a road trip to Metis Crossing\, the first major cultural interpretive center in Alberta. It’s located in Smoky Lake\, about 4 ½ hours northeast of Calgary. \nWe’ll carpool from St. Thomas\, leaving at about 8:30 am on Friday September 22. Paul Bercier from the congregation has suggested we stop for lunch in Fort Saskatchewan (3 hours away). Once we arrive at Metis Crossing and get settled\, a guided experience is planned for 3 pm\, called “Meet the Metis” (about 1 hour long). Dinner (bison stew\, bannock\, 2 salads & a dessert) will be served at 6 pm\, and a fire pit will be available for us at 8 pm. \nSaturday will begin with a hot breakfast at 8 am. Our second guided experience is a “Wildlife & Solar Field Tour” at 10 am (1 ½ hours long). Lunch (soup\, salad\, & sandwich) is available at noon. You’re welcome to either head for home at this point or perhaps explore the area a little more: the Victoria Settlement Provincial Historic Site is just a few minutes (10 km) away. \nHere’s an idea of the costs (thanks to Paul who negotiated a 20% discount for our group!)  Breakfast & lunch are about $20 each\, dinner is $28; a service charge of 18% applies to food & beverages. The firepit is $24 shared between all of us. Lodge rooms (2 twin beds) are $180 shared between 2 people. (RV sites are also available). Experiences are $24 and $48.80 respectively per person. The lodge will bill me for the total rather than charging individual participants; please reimburse me by either cheque or e-transfer. \nVisiting Metis Crossing is an opportunity to be outside and it’s located beside the North Saskatchewan River. Please consider bringing with you: good footwear that may get wet\, sunscreen\, bug spray\, a water bottle\, a hat\, and sunglasses. Dress in layers and dress for the weather. Questions? Please contact Elaine Gray\, email sarahegray@telus.net; 403-286-6687. \nMetis Crossing website is metiscrossing.com.
URL:https://stthomasunited.ca/event/visit-to-metis-crossing/
CATEGORIES:Other
END:VEVENT
END:VCALENDAR