BEGIN:VCALENDAR
VERSION:2.0
PRODID:-//St Thomas United Church NW Calgary - ECPv6.15.20//NONSGML v1.0//EN
CALSCALE:GREGORIAN
METHOD:PUBLISH
X-ORIGINAL-URL:https://stthomasunited.ca
X-WR-CALDESC:Events for St Thomas United Church NW Calgary
REFRESH-INTERVAL;VALUE=DURATION:PT1H
X-Robots-Tag:noindex
X-PUBLISHED-TTL:PT1H
BEGIN:VTIMEZONE
TZID:America/Edmonton
BEGIN:DAYLIGHT
TZOFFSETFROM:-0700
TZOFFSETTO:-0600
TZNAME:MDT
DTSTART:20220313T090000
END:DAYLIGHT
BEGIN:STANDARD
TZOFFSETFROM:-0600
TZOFFSETTO:-0700
TZNAME:MST
DTSTART:20221106T080000
END:STANDARD
BEGIN:DAYLIGHT
TZOFFSETFROM:-0700
TZOFFSETTO:-0600
TZNAME:MDT
DTSTART:20230312T090000
END:DAYLIGHT
BEGIN:STANDARD
TZOFFSETFROM:-0600
TZOFFSETTO:-0700
TZNAME:MST
DTSTART:20231105T080000
END:STANDARD
BEGIN:DAYLIGHT
TZOFFSETFROM:-0700
TZOFFSETTO:-0600
TZNAME:MDT
DTSTART:20240310T090000
END:DAYLIGHT
BEGIN:STANDARD
TZOFFSETFROM:-0600
TZOFFSETTO:-0700
TZNAME:MST
DTSTART:20241103T080000
END:STANDARD
END:VTIMEZONE
BEGIN:VEVENT
DTSTART;TZID=America/Edmonton:20231203T113000
DTEND;TZID=America/Edmonton:20231203T113000
DTSTAMP:20260422T220055
CREATED:20231106T202004Z
LAST-MODIFIED:20231118T165311Z
UID:3090-1701603000-1701603000@stthomasunited.ca
SUMMARY:Cocoa\, Carols\, and Candles
DESCRIPTION:
URL:https://stthomasunited.ca/event/cocoa-carols-and-candles/
LOCATION:St Thomas United Church\, 100 Hawkwood Blvd NW\, Calgary\, Canada
CATEGORIES:Primetimers
END:VEVENT
BEGIN:VEVENT
DTSTART;TZID=America/Edmonton:20231129T113000
DTEND;TZID=America/Edmonton:20231129T113000
DTSTAMP:20260422T220055
CREATED:20231005T204435Z
LAST-MODIFIED:20231012T203317Z
UID:3048-1701257400-1701257400@stthomasunited.ca
SUMMARY:Primetimers' Annual Christmas Luncheon
DESCRIPTION:Join the Primetimers for this annual event. It will be a turkey dinner with all the fixings\, dessert\, beverage\, and gratuity included. The Strummers will once again provide our entertainment.\nCost: $48.00 per person.\nSign-up: The sign-up sheet will be on the table by the bulletin board.\n“Please look for our poster on bulletin board in the Narthex. All are welcome!”
URL:https://stthomasunited.ca/event/primetimers-annual-christmas-luncheon/
LOCATION:St Thomas United Church\, 100 Hawkwood Blvd NW\, Calgary\, Canada
CATEGORIES:Primetimers
END:VEVENT
END:VCALENDAR