BEGIN:VCALENDAR
VERSION:2.0
PRODID:-//St Thomas United Church NW Calgary - ECPv6.15.20//NONSGML v1.0//EN
CALSCALE:GREGORIAN
METHOD:PUBLISH
X-WR-CALNAME:St Thomas United Church NW Calgary
X-ORIGINAL-URL:https://stthomasunited.ca
X-WR-CALDESC:Events for St Thomas United Church NW Calgary
REFRESH-INTERVAL;VALUE=DURATION:PT1H
X-Robots-Tag:noindex
X-PUBLISHED-TTL:PT1H
BEGIN:VTIMEZONE
TZID:America/Edmonton
BEGIN:DAYLIGHT
TZOFFSETFROM:-0700
TZOFFSETTO:-0600
TZNAME:MDT
DTSTART:20220313T090000
END:DAYLIGHT
BEGIN:STANDARD
TZOFFSETFROM:-0600
TZOFFSETTO:-0700
TZNAME:MST
DTSTART:20221106T080000
END:STANDARD
BEGIN:DAYLIGHT
TZOFFSETFROM:-0700
TZOFFSETTO:-0600
TZNAME:MDT
DTSTART:20230312T090000
END:DAYLIGHT
BEGIN:STANDARD
TZOFFSETFROM:-0600
TZOFFSETTO:-0700
TZNAME:MST
DTSTART:20231105T080000
END:STANDARD
BEGIN:DAYLIGHT
TZOFFSETFROM:-0700
TZOFFSETTO:-0600
TZNAME:MDT
DTSTART:20240310T090000
END:DAYLIGHT
BEGIN:STANDARD
TZOFFSETFROM:-0600
TZOFFSETTO:-0700
TZNAME:MST
DTSTART:20241103T080000
END:STANDARD
BEGIN:DAYLIGHT
TZOFFSETFROM:-0700
TZOFFSETTO:-0600
TZNAME:MDT
DTSTART:20250309T090000
END:DAYLIGHT
BEGIN:STANDARD
TZOFFSETFROM:-0600
TZOFFSETTO:-0700
TZNAME:MST
DTSTART:20251102T080000
END:STANDARD
END:VTIMEZONE
BEGIN:VEVENT
DTSTART;TZID=America/Edmonton:20240427T190000
DTEND;TZID=America/Edmonton:20240427T210000
DTSTAMP:20260422T163623
CREATED:20240321T215402Z
LAST-MODIFIED:20240321T215402Z
UID:3394-1714244400-1714251600@stthomasunited.ca
SUMMARY:STUC on Presents Joseph and the Technicolor Dreamcoat
DESCRIPTION:This is for the 7:00 pm performance. \nClick here to get tickets for this event.
URL:https://stthomasunited.ca/event/stuc-on-presents-joseph-and-the-technicolor-dreamcoat-2/
LOCATION:St Thomas United Church\, 100 Hawkwood Blvd NW\, Calgary\, Canada
ATTACH;FMTTYPE=image/jpeg:https://stthomasunited.ca/wp-content/uploads/2024/03/stuc-on-individual-times-graphic-7pm.jpg
END:VEVENT
BEGIN:VEVENT
DTSTART;TZID=America/Edmonton:20240427T140000
DTEND;TZID=America/Edmonton:20240427T160000
DTSTAMP:20260422T163623
CREATED:20240321T215032Z
LAST-MODIFIED:20240321T215537Z
UID:3386-1714226400-1714233600@stthomasunited.ca
SUMMARY:STUC on Presents Joseph and the Technicolor Dreamcoat
DESCRIPTION:This is for the 2:00 pm performance. \nClick here to get tickets for this event. \n 
URL:https://stthomasunited.ca/event/stuc-on-presents-joseph-and-the-technicolor-dreamcoat/
LOCATION:St Thomas United Church\, 100 Hawkwood Blvd NW\, Calgary\, Canada
ATTACH;FMTTYPE=image/jpeg:https://stthomasunited.ca/wp-content/uploads/2024/03/stuc-on-individual-times-graphic-2pm.jpg
END:VEVENT
BEGIN:VEVENT
DTSTART;TZID=America/Edmonton:20240421T140000
DTEND;TZID=America/Edmonton:20240421T140000
DTSTAMP:20260422T163623
CREATED:20240411T200942Z
LAST-MODIFIED:20240411T201028Z
UID:3448-1713708000-1713708000@stthomasunited.ca
SUMMARY:1946 Documentary
DESCRIPTION:Come and see this eye opening documentary at St. Thomas United church on April 21\, 2024 at 2:00 pm. Buy tickets at tinyurl.com/STUC-1946-movie
URL:https://stthomasunited.ca/event/1946-documentary/
LOCATION:St Thomas United Church\, 100 Hawkwood Blvd NW\, Calgary\, Canada
ATTACH;FMTTYPE=image/jpeg:https://stthomasunited.ca/wp-content/uploads/2024/04/2024-04-21-1946-for-events.jpg
END:VEVENT
BEGIN:VEVENT
DTSTART;TZID=America/Edmonton:20240421T120000
DTEND;TZID=America/Edmonton:20240421T133000
DTSTAMP:20260422T163623
CREATED:20240411T194713Z
LAST-MODIFIED:20240411T194713Z
UID:3445-1713700800-1713706200@stthomasunited.ca
SUMMARY:Creation Care Lunch and Learn - Recycling
DESCRIPTION:The St. Thomas United Church Creation Care invites you to a Lunch & Learn Sunday April 21\, 2024 at 12:00 pm. \nJoin us for a presentation by the City of Calgary on how to properly sort your waste into the black\, blue\, and green bins.
URL:https://stthomasunited.ca/event/creation-care-lunch-and-learn-recycling/
LOCATION:St Thomas United Church\, 100 Hawkwood Blvd NW\, Calgary\, Canada
ATTACH;FMTTYPE=image/png:https://stthomasunited.ca/wp-content/uploads/2024/04/2024-04-21-creation-care-lunch-and-learn-1280x720-1.png
END:VEVENT
BEGIN:VEVENT
DTSTART;TZID=America/Edmonton:20240421T103000
DTEND;TZID=America/Edmonton:20240421T113000
DTSTAMP:20260422T163623
CREATED:20240411T193048Z
LAST-MODIFIED:20240411T194813Z
UID:3432-1713695400-1713699000@stthomasunited.ca
SUMMARY:Sunday\, April 21\, 2024 Service
DESCRIPTION:Beatles Sermon Series – “Hope” \nRomans 8:24-25 \nReverend Tracy Robertson \nAdult Choir\, Youth Choir \nYou can watch the live stream here: \nhttps://youtube.com/live/7X9x3DPRilU
URL:https://stthomasunited.ca/event/april-21-2024-service/
LOCATION:St Thomas United Church\, 100 Hawkwood Blvd NW\, Calgary\, Canada
ATTACH;FMTTYPE=image/png:https://stthomasunited.ca/wp-content/uploads/2024/04/2024-04-21-service-titles.png
END:VEVENT
BEGIN:VEVENT
DTSTART;TZID=America/Edmonton:20240414T103000
DTEND;TZID=America/Edmonton:20240414T113000
DTSTAMP:20260422T163623
CREATED:20240411T193005Z
LAST-MODIFIED:20240411T193005Z
UID:3428-1713090600-1713094200@stthomasunited.ca
SUMMARY:Sunday\, April 14\, 2024 Service
DESCRIPTION:Beatles Sermon Series – “Should We Let it Be?” \nMatthew 21:12-17 \nReverend Tracy Robertson \nReverend Marion (pre-recorded) \nStrummers \nYou can watch the live stream here: \nhttps://youtube.com/live/xFV_sEvfe6Q
URL:https://stthomasunited.ca/event/sunday-april-14-2024-service/
LOCATION:St Thomas United Church\, 100 Hawkwood Blvd NW\, Calgary\, Canada
ATTACH;FMTTYPE=image/png:https://stthomasunited.ca/wp-content/uploads/2024/04/2024-04-14-service.png
END:VEVENT
BEGIN:VEVENT
DTSTART;TZID=America/Edmonton:20240414T100000
DTEND;TZID=America/Edmonton:20240414T140000
DTSTAMP:20260422T163623
CREATED:20240403T171148Z
LAST-MODIFIED:20240403T171148Z
UID:3418-1713088800-1713103200@stthomasunited.ca
SUMMARY:2024-04-14 Community Market
DESCRIPTION:Sunday April 14\, 2024\, 10:00 am to 2:00 pm in the upstairs Mountainview hall. Please use the upper parking lot doors. \nWe are having a community market featuring handmade soaps\, papercrafts\, 3D printed items\, wood craft cutting boards\, home made preserves\, baking items\, quilted items\, crochet items\, and more. We hope to see you there.
URL:https://stthomasunited.ca/event/2024-04-14-community-market/
LOCATION:St. Thomas United Church: Upper Parking Lot.\, 100 Hawkwood Blvd. NW.\, Calgary\, AB\, T3G 2S9\, Canada
ATTACH;FMTTYPE=image/png:https://stthomasunited.ca/wp-content/uploads/2024/04/2024-04-14-market-ppt.png
END:VEVENT
BEGIN:VEVENT
DTSTART;TZID=America/Edmonton:20240403T100000
DTEND;TZID=America/Edmonton:20240403T233000
DTSTAMP:20260422T163623
CREATED:20240329T011645Z
LAST-MODIFIED:20240329T011645Z
UID:3406-1712138400-1712187000@stthomasunited.ca
SUMMARY:Coffee and Conversation
DESCRIPTION:
URL:https://stthomasunited.ca/event/coffee-and-conversation/
LOCATION:St Thomas United Church\, 100 Hawkwood Blvd NW\, Calgary\, Canada
ATTACH;FMTTYPE=image/png:https://stthomasunited.ca/wp-content/uploads/2024/03/2024-04-03-coffee-and-conversation-1280x720-1.png
END:VEVENT
BEGIN:VEVENT
DTSTART;TZID=America/Edmonton:20240331T103000
DTEND;TZID=America/Edmonton:20240331T113000
DTSTAMP:20260422T163623
CREATED:20240221T203227Z
LAST-MODIFIED:20240221T203227Z
UID:3293-1711881000-1711884600@stthomasunited.ca
SUMMARY:Sunday\, March 31\, 2024 Service - Easter
DESCRIPTION:Easter Sunday – Wandering Heart: “And I hope” \nLuke 24:1-12 \nReverend Tracy Robertson \nAdult Choir \nYou can watch the live stream here: \nhttps://youtube.com/live/7hmf3ekm9mI
URL:https://stthomasunited.ca/event/sunday-march-31-2024-service-easter/
LOCATION:St Thomas United Church\, 100 Hawkwood Blvd NW\, Calgary\, Canada
CATEGORIES:Services
ATTACH;FMTTYPE=image/png:https://stthomasunited.ca/wp-content/uploads/2024/02/2024-03-31-service.png
END:VEVENT
BEGIN:VEVENT
DTSTART;TZID=America/Edmonton:20240331T073000
DTEND;TZID=America/Edmonton:20240331T073000
DTSTAMP:20260422T163623
CREATED:20240313T214344Z
LAST-MODIFIED:20240313T214426Z
UID:3346-1711870200-1711870200@stthomasunited.ca
SUMMARY:2024 Easter Sunrise Service
DESCRIPTION:Join us at the lookout in Scenic Acres off of Silver Crest Dr. NW for a special Easter Sunrise Service 7:00 am\, Sunday March 31\, 2024. There will be a light meal at St. Thomas United Church after the service\, before the main Easter service at 10:30am.  \nClick the link below for a Google map of the location: \nhttps://maps.app.goo.gl/aMn33mCNqvwgd2U27 \nClick here for infographic of the location
URL:https://stthomasunited.ca/event/2024-easter-sunrise-service/
ATTACH;FMTTYPE=image/png:https://stthomasunited.ca/wp-content/uploads/2024/03/2024-13-31-easter-sunrise-service-1280x720-1.png
END:VEVENT
BEGIN:VEVENT
DTSTART;TZID=America/Edmonton:20240329T103000
DTEND;TZID=America/Edmonton:20240329T113000
DTSTAMP:20260422T163623
CREATED:20240313T213510Z
LAST-MODIFIED:20240329T003900Z
UID:3344-1711708200-1711711800@stthomasunited.ca
SUMMARY:2024 Good Friday Service
DESCRIPTION:Join us at St. Thomas United Church on March 29\, 2024\, 10:30 am for our Good Friday Service.  This service will be held in conjunction with Foothills United Church\, Symons Valley United Church and St. Thomas United Church. We will be having Coffee and Fellowship time at 9:30 am\, before the service\, rather than after. We are honoured to have the choirs of Symons Valley and St. Thomas performing on this most solemn of days. \nClick here to watch the service
URL:https://stthomasunited.ca/event/2024-good-friday-service/
LOCATION:St Thomas United Church\, 100 Hawkwood Blvd NW\, Calgary\, Canada
ATTACH;FMTTYPE=image/png:https://stthomasunited.ca/wp-content/uploads/2024/03/2024-03-29-good-friday-service-1280x720-1.png
END:VEVENT
BEGIN:VEVENT
DTSTART;TZID=America/Edmonton:20240328T180000
DTEND;TZID=America/Edmonton:20240328T180000
DTSTAMP:20260422T163623
CREATED:20240313T205544Z
LAST-MODIFIED:20240313T205544Z
UID:3340-1711648800-1711648800@stthomasunited.ca
SUMMARY:2024 Maunday Thursday
DESCRIPTION:Join us at Foothills United Church to commemorate Jesus’s last scupper with his disciples. There will be a potluck supper and a worship 6:00 pm
URL:https://stthomasunited.ca/event/2024-maunday-thursday/
LOCATION:Foothills United Church\, 3803 69 Street NW\, Calgary\, AB\, T3B 2J9\, Canada
ATTACH;FMTTYPE=image/png:https://stthomasunited.ca/wp-content/uploads/2024/03/2024-03-28-maundythursday-1280x720px.png
END:VEVENT
BEGIN:VEVENT
DTSTART;TZID=America/Edmonton:20240324T113000
DTEND;TZID=America/Edmonton:20240324T113000
DTSTAMP:20260422T163623
CREATED:20240221T203008Z
LAST-MODIFIED:20240221T203008Z
UID:3290-1711279800-1711279800@stthomasunited.ca
SUMMARY:Sunday\, March 24\, 2024 Service
DESCRIPTION:Palm Sunday – Wandering Heart: “Songs of loudest praise” \nJohn 12:12-16 \nReverend Tracy Robertson \nAdult Choir \nYou can watch the live stream here: \nhttps://youtube.com/live/YSJmqPzqWis
URL:https://stthomasunited.ca/event/sunday-march-24-2024-service/
LOCATION:St Thomas United Church\, 100 Hawkwood Blvd NW\, Calgary\, Canada
CATEGORIES:Services
ATTACH;FMTTYPE=image/png:https://stthomasunited.ca/wp-content/uploads/2024/02/2024-03-24-service.png
END:VEVENT
BEGIN:VEVENT
DTSTART;TZID=America/Edmonton:20240317T114500
DTEND;TZID=America/Edmonton:20240317T114500
DTSTAMP:20260422T163623
CREATED:20240307T223557Z
LAST-MODIFIED:20240307T223809Z
UID:3316-1710675900-1710675900@stthomasunited.ca
SUMMARY:2024 Annual Congregational Meeting
DESCRIPTION:
URL:https://stthomasunited.ca/event/2024-annual-congregational-meeting/
LOCATION:St Thomas United Church\, 100 Hawkwood Blvd NW\, Calgary\, Canada
ATTACH;FMTTYPE=image/png:https://stthomasunited.ca/wp-content/uploads/2024/03/2024-03-17-congregational-meeting-1280x720-1.png
END:VEVENT
BEGIN:VEVENT
DTSTART;TZID=America/Edmonton:20240317T103000
DTEND;TZID=America/Edmonton:20240317T113000
DTSTAMP:20260422T163623
CREATED:20240221T202713Z
LAST-MODIFIED:20240221T202727Z
UID:3286-1710671400-1710675000@stthomasunited.ca
SUMMARY:Sunday\, March 17\, 2024 Service
DESCRIPTION:Lent 5 – Wandering Heart: “Teach me” \nMatthew 18:15-22 \nReverend Tracy Robertson \nStrummers \nYouth Choir \nYou can watch the live stream here: \nhttps://youtube.com/live/NlUoRHB9rwA
URL:https://stthomasunited.ca/event/sunday-march-10-2024-service-2/
LOCATION:St Thomas United Church\, 100 Hawkwood Blvd NW\, Calgary\, Canada
CATEGORIES:Services
ATTACH;FMTTYPE=image/png:https://stthomasunited.ca/wp-content/uploads/2024/02/2024-03-17-service.png
END:VEVENT
BEGIN:VEVENT
DTSTART;TZID=America/Edmonton:20240310T113000
DTEND;TZID=America/Edmonton:20240310T113000
DTSTAMP:20260422T163623
CREATED:20240130T232153Z
LAST-MODIFIED:20240220T183437Z
UID:3239-1710070200-1710070200@stthomasunited.ca
SUMMARY:P.I.E. Day 2024
DESCRIPTION:Come celebrate P.I.E. Day with us on March 10\, 2024. \nThe Affirming Team will be taking part in the service and Pam Rocker from Affirming Connections\, will be our speaker. \nBut wait\, that’s not all… after church you are invited to venture upstairs to the Mountainview Hall to have some Shepherds Pie and then finish off  with a sweet pie. \nTo donate a pie or help out\, sign up on sheets in the Narthex\, on our website or by clicking the following links. \n– Shepherds Pie for sale \n– Mini Pies (tarts) for serving on PIE DAY \n– Fruit Pies for sale \n– Volunteers to help on PIE Day \nWant to try a new recipe?  Click here for a Shepherd’s Pie recipe from Cathy Olson. \nAfter lunch\, you can check out the Art Show and Sale and bid on some pies for yourself. All proceeds from the silent auction will go towards Pride Prom (June 15\, 2024). \nLooking forward to seeing all of you there. \nSt. Thomas Affirming Team
URL:https://stthomasunited.ca/event/p-i-e-day-2024/
LOCATION:St Thomas United Church\, 100 Hawkwood Blvd NW\, Calgary\, Canada
CATEGORIES:Affirming
END:VEVENT
BEGIN:VEVENT
DTSTART;TZID=America/Edmonton:20240310T103000
DTEND;TZID=America/Edmonton:20240310T113000
DTSTAMP:20260422T163623
CREATED:20240221T202402Z
LAST-MODIFIED:20240221T202402Z
UID:3283-1710066600-1710070200@stthomasunited.ca
SUMMARY:Sunday\, March 10\, 2024 Service
DESCRIPTION:Lent 4 – Wandering Heart: “I’m fixed upon it” \nMatthew 16:21-23 \nAffirming Team and  Pam Rocker \nAdult Choir \nChildren’s Choir \nYou can watch the live stream here: \nhttps://youtube.com/live/WM_h19YFTyc
URL:https://stthomasunited.ca/event/sunday-march-10-2024-service/
LOCATION:St Thomas United Church\, 100 Hawkwood Blvd NW\, Calgary\, Canada
CATEGORIES:Services
ATTACH;FMTTYPE=image/png:https://stthomasunited.ca/wp-content/uploads/2024/02/2024-03-10-service.png
END:VEVENT
BEGIN:VEVENT
DTSTART;TZID=America/Edmonton:20240303T103000
DTEND;TZID=America/Edmonton:20240303T233000
DTSTAMP:20260422T163623
CREATED:20240221T202107Z
LAST-MODIFIED:20240221T202107Z
UID:3280-1709461800-1709508600@stthomasunited.ca
SUMMARY:Sunday\, March 3\, 2024 Service
DESCRIPTION:Lent 3 – Wandering Heart: “Praise the mount” \nMatthew 16:13-20 \nReverend Tracy Robertson \nOrchestra \nYou can watch the live stream here: \nhttps://youtube.com/live/3MgzJTtEpAg
URL:https://stthomasunited.ca/event/sunday-march-3-2024-service/
LOCATION:St Thomas United Church\, 100 Hawkwood Blvd NW\, Calgary\, Canada
CATEGORIES:Services
ATTACH;FMTTYPE=image/png:https://stthomasunited.ca/wp-content/uploads/2024/02/2024-03-03-service.png
END:VEVENT
BEGIN:VEVENT
DTSTART;TZID=America/Edmonton:20240301T170000
DTEND;TZID=America/Edmonton:20240301T190000
DTSTAMP:20260422T163623
CREATED:20240130T232922Z
LAST-MODIFIED:20240130T232922Z
UID:3242-1709312400-1709319600@stthomasunited.ca
SUMMARY:Messy Church
DESCRIPTION:
URL:https://stthomasunited.ca/event/messy-church-2/
CATEGORIES:Sunday School
END:VEVENT
BEGIN:VEVENT
DTSTART;TZID=America/Edmonton:20240225T103000
DTEND;TZID=America/Edmonton:20240225T113000
DTSTAMP:20260422T163623
CREATED:20240221T201236Z
LAST-MODIFIED:20240221T201720Z
UID:3273-1708857000-1708860600@stthomasunited.ca
SUMMARY:Sunday\, February 25\, 2024 Service - and Pink Shirt Day
DESCRIPTION:Lent 2 – Wandering Heart: “Rescue me from danger” \nMatthew 14:22-33 \nReverend Tracy Robertson \nStrummers and Children’s Choir \nYou can watch the live stream here: \nhttps://youtube.com/live/2MFRzNzsI4w \n 
URL:https://stthomasunited.ca/event/sunday-february-25-2024-service-and-pink-shirt-day/
CATEGORIES:Services
END:VEVENT
BEGIN:VEVENT
DTSTART;TZID=America/Edmonton:20240224T000000
DTEND;TZID=America/Edmonton:20240224T000000
DTSTAMP:20260422T163623
CREATED:20240123T225110Z
LAST-MODIFIED:20240123T225110Z
UID:3229-1708732800-1708732800@stthomasunited.ca
SUMMARY:CNOY
DESCRIPTION:CNOY \n\n\nThe Symons Valley United Church and St. Thomas United Church Youth Group are walking in the Coldest Night of the Year walk on February 24 in Inglewood to support Wood’s Homes Calgary to support Wood’s Homes Calgary. Learn more about what Wood’s Homes does by checking out their website: \n\n\nhttps://www.woodshomes.ca/\n\n\nWe are collecting monetary donations for Wood’s Homes through cash on Sunday mornings or at the following link: \n\n\nhttp://tinyurl.com/mv44e4uy\n\n\n\n\n\nThank you!
URL:https://stthomasunited.ca/event/cnoy/
END:VEVENT
BEGIN:VEVENT
DTSTART;TZID=America/Edmonton:20240223T180000
DTEND;TZID=America/Edmonton:20240223T223000
DTSTAMP:20260422T163623
CREATED:20240130T231359Z
LAST-MODIFIED:20240130T231359Z
UID:3235-1708711200-1708727400@stthomasunited.ca
SUMMARY:Naked Faith
DESCRIPTION:
URL:https://stthomasunited.ca/event/naked-faith/
LOCATION:St Thomas United Church\, 100 Hawkwood Blvd NW\, Calgary\, Canada
CATEGORIES:Naked Faith
END:VEVENT
BEGIN:VEVENT
DTSTART;TZID=America/Edmonton:20240214T180000
DTEND;TZID=America/Edmonton:20240214T200000
DTSTAMP:20260422T163623
CREATED:20240123T224720Z
LAST-MODIFIED:20240214T181110Z
UID:3225-1707933600-1707940800@stthomasunited.ca
SUMMARY:Pancakes\, Ashes\, and Mardi Gras
DESCRIPTION:
URL:https://stthomasunited.ca/event/pancakes-ashes-and-mardi-gras/
LOCATION:Foothills United Church\, 3803 69 Street NW\, Calgary\, AB\, T3B 2J9\, Canada
END:VEVENT
BEGIN:VEVENT
DTSTART;TZID=America/Edmonton:20240114T113000
DTEND;TZID=America/Edmonton:20240114T113000
DTSTAMP:20260422T163623
CREATED:20231231T000821Z
LAST-MODIFIED:20231231T001018Z
UID:3181-1705231800-1705231800@stthomasunited.ca
SUMMARY:Affirming Lunch and Learn
DESCRIPTION:The Affirming Team’s first event will be held on January 14 \,2024\, where a Lunch and Learn will be held after the service. The focus of this will be gender differences\, the different queer flags\, and the pronoun usages; while still having a fun and engaging time. We will be providing lunch for those who attend!
URL:https://stthomasunited.ca/event/affirming-lunch-and-learn/
CATEGORIES:Affirming
END:VEVENT
BEGIN:VEVENT
DTSTART;TZID=America/Edmonton:20240111T100000
DTEND;TZID=America/Edmonton:20240111T100000
DTSTAMP:20260422T163623
CREATED:20231231T034753Z
LAST-MODIFIED:20231231T034820Z
UID:3189-1704967200-1704967200@stthomasunited.ca
SUMMARY:Primetimers Coffee and Chat
DESCRIPTION:
URL:https://stthomasunited.ca/event/primetimers-coffee-and-chat-2/
END:VEVENT
BEGIN:VEVENT
DTSTART;TZID=America/Edmonton:20240107T190000
DTEND;TZID=America/Edmonton:20240107T190000
DTSTAMP:20260422T163623
CREATED:20231231T005203Z
LAST-MODIFIED:20231231T005442Z
UID:3184-1704654000-1704654000@stthomasunited.ca
SUMMARY:Twelfth Night
DESCRIPTION:
URL:https://stthomasunited.ca/event/twelfth-night/
LOCATION:ST. David’s United Church\, 3303 Capitol Hill Crescent NW\, Calgary\, AB\, T2M 2R2\, Canada
END:VEVENT
BEGIN:VEVENT
DTSTART;TZID=America/Edmonton:20240104T093000
DTEND;TZID=America/Edmonton:20240104T093000
DTSTAMP:20260422T163623
CREATED:20231231T000145Z
LAST-MODIFIED:20231231T004234Z
UID:3176-1704360600-1704360600@stthomasunited.ca
SUMMARY:Decor\, Christmas Down\, Winter Up
DESCRIPTION:
URL:https://stthomasunited.ca/event/decor-christmas-down-winter-up/
CATEGORIES:Affirming,Other
END:VEVENT
BEGIN:VEVENT
DTSTART;TZID=America/Edmonton:20231220T100000
DTEND;TZID=America/Edmonton:20231220T100000
DTSTAMP:20260422T163623
CREATED:20231119T161550Z
LAST-MODIFIED:20231119T173050Z
UID:3121-1703066400-1703066400@stthomasunited.ca
SUMMARY:Advent Study Week 4
DESCRIPTION:Please Join us from November 29 – December 20 at St. Thomas United Church for an Advent Study Wednesday mornings at 10:00 am. \nOur theme for this Advent is based on the book\, A Northern Nativity by William Kurelek.  \nEach session is a stand alone session. \nCoffee/Tea and Goodies will be served. \nCome join us\, everyone welcome.
URL:https://stthomasunited.ca/event/advent-study-week-4/
LOCATION:St Thomas United Church\, 100 Hawkwood Blvd NW\, Calgary\, Canada
CATEGORIES:Other
END:VEVENT
BEGIN:VEVENT
DTSTART;TZID=America/Edmonton:20231213T100000
DTEND;TZID=America/Edmonton:20231213T100000
DTSTAMP:20260422T163623
CREATED:20231119T161147Z
LAST-MODIFIED:20231119T161452Z
UID:3119-1702461600-1702461600@stthomasunited.ca
SUMMARY:Advent Study Week 3
DESCRIPTION:Please Join us from November 29 – December 20 at St. Thomas United Church for an Advent Study Wednesday mornings at 10:00 am. \nOur theme for this Advent is based on the book\, A Northern Nativity by William Kurelek.  \nEach session is a stand alone session. \nCoffee/Tea and Goodies will be served. \nCome join us\, everyone welcome.
URL:https://stthomasunited.ca/event/advent-study-week-3/
LOCATION:St Thomas United Church\, 100 Hawkwood Blvd NW\, Calgary\, Canada
CATEGORIES:Other
END:VEVENT
BEGIN:VEVENT
DTSTART;TZID=America/Edmonton:20231206T100000
DTEND;TZID=America/Edmonton:20231206T100000
DTSTAMP:20260422T163623
CREATED:20231119T161044Z
LAST-MODIFIED:20231119T161615Z
UID:3117-1701856800-1701856800@stthomasunited.ca
SUMMARY:Advent Study Week 2
DESCRIPTION:Please Join us from November 29 – December 20 at St. Thomas United Church for an Advent Study Wednesday mornings at 10:00 am. \nOur theme for this Advent is based on the book\, A Northern Nativity by William Kurelek.  \nEach session is a stand alone session. \nCoffee/Tea and Goodies will be served. \nCome join us\, everyone welcome.
URL:https://stthomasunited.ca/event/advent-study-week-2/
LOCATION:St Thomas United Church\, 100 Hawkwood Blvd NW\, Calgary\, Canada
CATEGORIES:Other
END:VEVENT
END:VCALENDAR