BEGIN:VCALENDAR
VERSION:2.0
PRODID:-//St Thomas United Church NW Calgary - ECPv6.15.20//NONSGML v1.0//EN
CALSCALE:GREGORIAN
METHOD:PUBLISH
X-WR-CALNAME:St Thomas United Church NW Calgary
X-ORIGINAL-URL:https://stthomasunited.ca
X-WR-CALDESC:Events for St Thomas United Church NW Calgary
REFRESH-INTERVAL;VALUE=DURATION:PT1H
X-Robots-Tag:noindex
X-PUBLISHED-TTL:PT1H
BEGIN:VTIMEZONE
TZID:America/Edmonton
BEGIN:DAYLIGHT
TZOFFSETFROM:-0700
TZOFFSETTO:-0600
TZNAME:MDT
DTSTART:20220313T090000
END:DAYLIGHT
BEGIN:STANDARD
TZOFFSETFROM:-0600
TZOFFSETTO:-0700
TZNAME:MST
DTSTART:20221106T080000
END:STANDARD
BEGIN:DAYLIGHT
TZOFFSETFROM:-0700
TZOFFSETTO:-0600
TZNAME:MDT
DTSTART:20230312T090000
END:DAYLIGHT
BEGIN:STANDARD
TZOFFSETFROM:-0600
TZOFFSETTO:-0700
TZNAME:MST
DTSTART:20231105T080000
END:STANDARD
BEGIN:DAYLIGHT
TZOFFSETFROM:-0700
TZOFFSETTO:-0600
TZNAME:MDT
DTSTART:20240310T090000
END:DAYLIGHT
BEGIN:STANDARD
TZOFFSETFROM:-0600
TZOFFSETTO:-0700
TZNAME:MST
DTSTART:20241103T080000
END:STANDARD
END:VTIMEZONE
BEGIN:VTIMEZONE
TZID:UTC
BEGIN:STANDARD
TZOFFSETFROM:+0000
TZOFFSETTO:+0000
TZNAME:UTC
DTSTART:20180101T000000
END:STANDARD
END:VTIMEZONE
BEGIN:VEVENT
DTSTART;TZID=America/Edmonton:20230922T083000
DTEND;TZID=America/Edmonton:20230923T000000
DTSTAMP:20260422T215818
CREATED:20230913T182829Z
LAST-MODIFIED:20230913T182829Z
UID:2989-1695371400-1695427200@stthomasunited.ca
SUMMARY:Visit to Metis Crossing.
DESCRIPTION:Getting close now\, folks! It’s not too late to plan to join us on a road trip to Metis Crossing\, the first major cultural interpretive center in Alberta. It’s located in Smoky Lake\, about 4 ½ hours northeast of Calgary. \nWe’ll carpool from St. Thomas\, leaving at about 8:30 am on Friday September 22. Paul Bercier from the congregation has suggested we stop for lunch in Fort Saskatchewan (3 hours away). Once we arrive at Metis Crossing and get settled\, a guided experience is planned for 3 pm\, called “Meet the Metis” (about 1 hour long). Dinner (bison stew\, bannock\, 2 salads & a dessert) will be served at 6 pm\, and a fire pit will be available for us at 8 pm. \nSaturday will begin with a hot breakfast at 8 am. Our second guided experience is a “Wildlife & Solar Field Tour” at 10 am (1 ½ hours long). Lunch (soup\, salad\, & sandwich) is available at noon. You’re welcome to either head for home at this point or perhaps explore the area a little more: the Victoria Settlement Provincial Historic Site is just a few minutes (10 km) away. \nHere’s an idea of the costs (thanks to Paul who negotiated a 20% discount for our group!)  Breakfast & lunch are about $20 each\, dinner is $28; a service charge of 18% applies to food & beverages. The firepit is $24 shared between all of us. Lodge rooms (2 twin beds) are $180 shared between 2 people. (RV sites are also available). Experiences are $24 and $48.80 respectively per person. The lodge will bill me for the total rather than charging individual participants; please reimburse me by either cheque or e-transfer. \nVisiting Metis Crossing is an opportunity to be outside and it’s located beside the North Saskatchewan River. Please consider bringing with you: good footwear that may get wet\, sunscreen\, bug spray\, a water bottle\, a hat\, and sunglasses. Dress in layers and dress for the weather. Questions? Please contact Elaine Gray\, email sarahegray@telus.net; 403-286-6687. \nMetis Crossing website is metiscrossing.com.
URL:https://stthomasunited.ca/event/visit-to-metis-crossing/
CATEGORIES:Other
END:VEVENT
BEGIN:VEVENT
DTSTART;TZID=America/Edmonton:20230921T100000
DTEND;TZID=America/Edmonton:20230921T100000
DTSTAMP:20260422T215818
CREATED:20230913T180738Z
LAST-MODIFIED:20230913T180827Z
UID:2980-1695290400-1695290400@stthomasunited.ca
SUMMARY:Primetimers: Coffee and Chat
DESCRIPTION:You are invited to our Coffee and a Chat\, Thursday\, September 21\, at 10:00 am in our Narthex.  Let us  know if you would like to contribute a treat.\nAlso\, that day\, we will be having a Book Exchange\, so bring along your finished books\, and choose some new reads!
URL:https://stthomasunited.ca/event/primetimers-coffee-and-chat/
LOCATION:St. Thomas United Church: Narthex\, 100 Hawkwood Blvd\, NW\, Calgary\, AB\, T3G 2S9\, Canada
END:VEVENT
BEGIN:VEVENT
DTSTART;TZID=America/Edmonton:20230917T103000
DTEND;TZID=America/Edmonton:20230917T113000
DTSTAMP:20260422T215818
CREATED:20230914T205826Z
LAST-MODIFIED:20230914T205826Z
UID:2994-1694946600-1694950200@stthomasunited.ca
SUMMARY:Sunday\, September 17\, 2023\, Service
DESCRIPTION:
URL:https://stthomasunited.ca/event/sunday-september-17-2023-service/
END:VEVENT
BEGIN:VEVENT
DTSTART;TZID=America/Edmonton:20230913T190000
DTEND;TZID=America/Edmonton:20230913T210000
DTSTAMP:20260422T215818
CREATED:20230913T181743Z
LAST-MODIFIED:20230913T181743Z
UID:2984-1694631600-1694638800@stthomasunited.ca
SUMMARY:Youth Group: Campfire
DESCRIPTION:we invite you to join us for a campfire in the upper parking lot at St. Thomas United Church from 7:00 – 9:00 pm. Caitlin has her own portable fire pit that she will be bringing. There will be songs\, smores and spooky stories of course.
URL:https://stthomasunited.ca/event/youth-group-campfire/
LOCATION:St. Thomas United Church: Upper Parking Lot.\, 100 Hawkwood Blvd. NW.\, Calgary\, AB\, T3G 2S9\, Canada
CATEGORIES:Youth Group
END:VEVENT
BEGIN:VEVENT
DTSTART;TZID=America/Edmonton:20230311T130000
DTEND;TZID=America/Edmonton:20230311T143000
DTSTAMP:20260422T215818
CREATED:20230215T212219Z
LAST-MODIFIED:20230215T213237Z
UID:2736-1678539600-1678545000@stthomasunited.ca
SUMMARY:Stuffed Companion Sleep Over
DESCRIPTION:Stuffed Companion Sleepover and Tea party Saturday March 11\, 1:00 – 2:30 pm This is a family friendly event and all the companions must come with their guardian (ages 4-9) and a responsible adult. Space is limited so please sign up by clicking here. \nBring your stuffed companion with you to story and tea time. We’ll read stories and have a tea party to help make the companions comfortable and create a passport for them . Then\, you go home and let your stuffed friend enjoy a fun sleepover at the church. Come back the next day between 11:00am and 1:00pm to pick up your companion and see pictures of some of the things that they got up to. If you can’t come to collect your companion on March 12\, arrangements can be made to reunite with them later. \n 
URL:https://stthomasunited.ca/event/stuffed-companion-sleep-over/
END:VEVENT
BEGIN:VEVENT
DTSTART;TZID=UTC:20200425T190000
DTEND;TZID=UTC:20200425T210000
DTSTAMP:20260422T215818
CREATED:20200120T013032Z
LAST-MODIFIED:20200310T020054Z
UID:918-1587841200-1587848400@stthomasunited.ca
SUMMARY:Joseph and the Amazing Technicolor Dreamcoat
DESCRIPTION:St. Thomas will be producing its sixth biennial musical production on Saturday\, April 25\, with both afternoon and evening shows.\nThis year’s production will feature the music of Joseph and the Amazing Technicolor Dreamcoat.\nThis year’s show follows the previously acclaimed STUC on Broadway\, STUC on Radio\, STUC on the Movies\, STUC on a Musical Quest and STUC on the Thommies.\nPlease mark April 25 in your calendars.  There will be shows at 2:00 and 7:00.  You won’t be disappointed!\nTickets:\n\nAdults: $15.00\nChildren 12 and Under: $5.00
URL:https://stthomasunited.ca/event/joseph-and-the-amazing-technicolor-dreamcoat-2/
LOCATION:St Thomas United Church\, 100 Hawkwood Blvd NW\, Calgary\, Canada
END:VEVENT
BEGIN:VEVENT
DTSTART;TZID=UTC:20200425T140000
DTEND;TZID=UTC:20200425T160000
DTSTAMP:20260422T215818
CREATED:20200120T012819Z
LAST-MODIFIED:20200310T020025Z
UID:916-1587823200-1587830400@stthomasunited.ca
SUMMARY:Joseph and the Amazing Technicolor Dreamcoat
DESCRIPTION:St. Thomas will be producing its sixth biennial musical production on Saturday\, April 25\, with both afternoon and evening shows.\nThis year’s production will feature the music of Joseph and the Amazing Technicolor Dreamcoat.\nThis year’s show follows the previously acclaimed STUC on Broadway\, STUC on Radio\, STUC on the Movies\, STUC on a Musical Quest and STUC on the Thommies.\nPlease mark April 25 in your calendars.  There will be shows at 2:00 and 7:00.  You won’t be disappointed!\nTickets:\n\nAdults: $15.00\nChildren 12 and Under: $5.00
URL:https://stthomasunited.ca/event/joseph-and-the-amazing-technicolor-dreamcoat/
LOCATION:St Thomas United Church\, 100 Hawkwood Blvd NW\, Calgary\, Canada
END:VEVENT
BEGIN:VEVENT
DTSTART;TZID=UTC:20200222T190000
DTEND;TZID=UTC:20200222T220000
DTSTAMP:20260422T215818
CREATED:20200108T043948Z
LAST-MODIFIED:20200108T043948Z
UID:902-1582398000-1582408800@stthomasunited.ca
SUMMARY:Family Dance Party
DESCRIPTION:FAMILY DANCE PARTY WITH THE CLASSIC POP BAND ‘THE TURBINES’ \nLIGHT SNACK PROVIDED\nWINE\, BEER & NON-ALCOHOLIC BEVERAGES WILL BE SOLD\nTICKETS: $15/ADULT $10/CHILD $40/FAMILY\nTHIS EVENT IS OPEN TO MEMBERS OF ST. THOMAS UNITED CHURCH PLUS INVITED GUESTS
URL:https://stthomasunited.ca/event/family-dance-party/
LOCATION:St Thomas United Church\, 100 Hawkwood Blvd NW\, Calgary\, Canada
END:VEVENT
BEGIN:VEVENT
DTSTART;TZID=UTC:20200119T100000
DTEND;TZID=UTC:20200119T113000
DTSTAMP:20260422T215818
CREATED:20200108T034917Z
LAST-MODIFIED:20200108T034917Z
UID:899-1579428000-1579433400@stthomasunited.ca
SUMMARY:Lunch And Learn
DESCRIPTION:This workshop is designed to build people’s confidence to respond supportively when someone they know is\, or they think that they might be\, experiencing domestic violence
URL:https://stthomasunited.ca/event/lunch-and-learn/
LOCATION:St Thomas United Church\, 100 Hawkwood Blvd NW\, Calgary\, Canada
END:VEVENT
BEGIN:VEVENT
DTSTART;TZID=UTC:20191217T190000
DTEND;TZID=UTC:20191217T203000
DTSTAMP:20260422T215818
CREATED:20191204T013001Z
LAST-MODIFIED:20191204T013001Z
UID:865-1576609200-1576614600@stthomasunited.ca
SUMMARY:Blue Christmas
DESCRIPTION:A quiet service to acknowledge that the Christmas season is not always joyful for everyone
URL:https://stthomasunited.ca/event/blue-christmas/
LOCATION:St Thomas United Church\, 100 Hawkwood Blvd NW\, Calgary\, Canada
END:VEVENT
BEGIN:VEVENT
DTSTART;TZID=UTC:20191206T190000
DTEND;TZID=UTC:20191206T203000
DTSTAMP:20260422T215818
CREATED:20191115T053321Z
LAST-MODIFIED:20191115T053321Z
UID:845-1575658800-1575664200@stthomasunited.ca
SUMMARY:
DESCRIPTION:Come join the adult chooir for an informal evening to sing your favourite carols and Christmas songs. Come for as little of the evening as you like. Invite your neighbours and friends to join in.
URL:https://stthomasunited.ca/event/845/
LOCATION:St Thomas United Church\, 100 Hawkwood Blvd NW\, Calgary\, Canada
END:VEVENT
BEGIN:VEVENT
DTSTART;TZID=UTC:20191201T111500
DTEND;TZID=UTC:20191201T111500
DTSTAMP:20260422T215818
CREATED:20191031T044426Z
LAST-MODIFIED:20191031T044426Z
UID:782-1575198900-1575198900@stthomasunited.ca
SUMMARY:Advent Workshop Series:
DESCRIPTION:This four-part educational series focuses on a global issue of importance for all people of faith: that of the conflict in Israel-Palestine. The series is set up to allow for consideration of history; theology; power; and holistic thinking. Anti-Arab racism; anti-Semitism; and the newly emerging analyses from the Palestinian Christian community are some of the issues to be discussed. The workshops will take place St. Thomas\, over the four Sundays of Advent\, beginning December 1 from 11:15 am to 12:30 pm. Joe Kadi\, who is currently engaged in theological studies at the Centre for Christian Studies\, will facilitate the sessions. Participants will be asked to complete short readings before each session.
URL:https://stthomasunited.ca/event/advent-workshop-series/
LOCATION:St Thomas United Church\, 100 Hawkwood Blvd NW\, Calgary\, Canada
END:VEVENT
BEGIN:VEVENT
DTSTART;TZID=UTC:20191130T100000
DTEND;TZID=UTC:20191130T150000
DTSTAMP:20260422T215818
CREATED:20191031T025232Z
LAST-MODIFIED:20191031T043238Z
UID:750-1575108000-1575126000@stthomasunited.ca
SUMMARY:Parent’s Day Out
DESCRIPTION:Want to do some Christmas shopping without your kids? Need a safe place to drop them off where they will be engaged in games and crafts? Want to volunteer at this fun event? For more details see the poster on the bulletin board or contact Rev Tracy.
URL:https://stthomasunited.ca/event/parents-day-out/
LOCATION:St Thomas United Church\, 100 Hawkwood Blvd NW\, Calgary\, Canada
END:VEVENT
BEGIN:VEVENT
DTSTART;TZID=UTC:20191124T110000
DTEND;TZID=UTC:20191124T123000
DTSTAMP:20260422T215818
CREATED:20191031T025049Z
LAST-MODIFIED:20191031T042715Z
UID:748-1574593200-1574598600@stthomasunited.ca
SUMMARY:Lunch & Learn
DESCRIPTION:Come hear about Basic Income Calgary. See full write up in the upcoming newsletter for more details.
URL:https://stthomasunited.ca/event/lunch-learn/
LOCATION:St Thomas United Church\, 100 Hawkwood Blvd NW\, Calgary\, Canada
END:VEVENT
BEGIN:VEVENT
DTSTART;TZID=UTC:20191123T140000
DTEND;TZID=UTC:20191123T170000
DTSTAMP:20260422T215818
CREATED:20191031T024845Z
LAST-MODIFIED:20191031T044710Z
UID:746-1574517600-1574528400@stthomasunited.ca
SUMMARY:The Great Plains Concert
DESCRIPTION:The\nGreat Plains is a Canadian duo who play their original blend of Bluegrass-Gospel/Celtic and Folk music. They also play many familiar songs and will include traditional Christmas hymns and carols. Tickets are $20 and are available Sunday mornings and at the door. See posters and upcoming newsletter for details.
URL:https://stthomasunited.ca/event/the-great-plains-concert/
LOCATION:St Thomas United Church\, 100 Hawkwood Blvd NW\, Calgary\, Canada
END:VEVENT
BEGIN:VEVENT
DTSTART;TZID=UTC:20191117T110000
DTEND;TZID=UTC:20191117T130000
DTSTAMP:20260422T215818
CREATED:20191107T122652Z
LAST-MODIFIED:20191107T122727Z
UID:820-1573988400-1573995600@stthomasunited.ca
SUMMARY:Festive Fair and Sale
DESCRIPTION:Quilted items\, delectable treats\, homemade & unique gifts\, fair trade coffee and more for purchase.
URL:https://stthomasunited.ca/event/festive-fair-and-sale-2/
END:VEVENT
BEGIN:VEVENT
DTSTART;TZID=UTC:20191116T100000
DTEND;TZID=UTC:20191116T140000
DTSTAMP:20260422T215818
CREATED:20191031T024554Z
LAST-MODIFIED:20191107T122528Z
UID:742-1573898400-1573912800@stthomasunited.ca
SUMMARY:Festive Fair and Sale
DESCRIPTION:Quilted items\, delectable treats\, homemade & unique gifts\, fair trade coffee and more for purchase.
URL:https://stthomasunited.ca/event/festive-fair-and-sale/
LOCATION:St Thomas United Church\, 100 Hawkwood Blvd NW\, Calgary\, Canada
END:VEVENT
BEGIN:VEVENT
DTSTART;TZID=UTC:20191111T093000
DTEND;TZID=UTC:20191111T120000
DTSTAMP:20260422T215818
CREATED:20191031T043733Z
LAST-MODIFIED:20191031T044056Z
UID:780-1573464600-1573473600@stthomasunited.ca
SUMMARY:Remembrance Day Service
DESCRIPTION:Community friends\, neighbours\, and families are all invited to a communal viewing of the Remembrance Day Service.  The service will be shown on the big screen.
URL:https://stthomasunited.ca/event/remembrance-day-service/
LOCATION:St Thomas United Church\, 100 Hawkwood Blvd NW\, Calgary\, Canada
END:VEVENT
END:VCALENDAR