BEGIN:VCALENDAR
VERSION:2.0
PRODID:-//St Thomas United Church NW Calgary - ECPv6.15.20//NONSGML v1.0//EN
CALSCALE:GREGORIAN
METHOD:PUBLISH
X-WR-CALNAME:St Thomas United Church NW Calgary
X-ORIGINAL-URL:https://stthomasunited.ca
X-WR-CALDESC:Events for St Thomas United Church NW Calgary
REFRESH-INTERVAL;VALUE=DURATION:PT1H
X-Robots-Tag:noindex
X-PUBLISHED-TTL:PT1H
BEGIN:VTIMEZONE
TZID:America/Edmonton
BEGIN:DAYLIGHT
TZOFFSETFROM:-0700
TZOFFSETTO:-0600
TZNAME:MDT
DTSTART:20230312T090000
END:DAYLIGHT
BEGIN:STANDARD
TZOFFSETFROM:-0600
TZOFFSETTO:-0700
TZNAME:MST
DTSTART:20231105T080000
END:STANDARD
BEGIN:DAYLIGHT
TZOFFSETFROM:-0700
TZOFFSETTO:-0600
TZNAME:MDT
DTSTART:20240310T090000
END:DAYLIGHT
BEGIN:STANDARD
TZOFFSETFROM:-0600
TZOFFSETTO:-0700
TZNAME:MST
DTSTART:20241103T080000
END:STANDARD
BEGIN:DAYLIGHT
TZOFFSETFROM:-0700
TZOFFSETTO:-0600
TZNAME:MDT
DTSTART:20250309T090000
END:DAYLIGHT
BEGIN:STANDARD
TZOFFSETFROM:-0600
TZOFFSETTO:-0700
TZNAME:MST
DTSTART:20251102T080000
END:STANDARD
END:VTIMEZONE
BEGIN:VEVENT
DTSTART;TZID=America/Edmonton:20240909T190000
DTEND;TZID=America/Edmonton:20240909T203000
DTSTAMP:20260422T163457
CREATED:20240802T220844Z
LAST-MODIFIED:20240802T220844Z
UID:3638-1725908400-1725913800@stthomasunited.ca
SUMMARY:Orchestra First Fall Practice 2024
DESCRIPTION:If you play a musical instrument and are looking for a relaxed and fun group to play with\, the St. Thomas Orchestra is for you . All skill levels are welcome. Coaching on your instrument to help bring back your skills is available. Much of our music is arranged for the orchestra and can be set to different levels.\n\n\nMany members of the Orchestra got back into playing their instruments through this group. Do you have an instrument in your closet and haven’t played for many years? Why not take it out and come join us for practices on Monday evenings! We provide an anthem to be used during Church services about once a month from Sept to May.\n\n\nRehearsals: Monday evenings at St. Thomas United Church from 7:00 PM to 8:30 PM.\n\n\nFirst Fall Practice – September 9\, 2024.
URL:https://stthomasunited.ca/event/orchestra-first-fall-practice-2024/
ATTACH;FMTTYPE=image/png:https://stthomasunited.ca/wp-content/uploads/2024/08/2024-09-09-orchestra-first-fall-practice-1280x720-1.png
END:VEVENT
BEGIN:VEVENT
DTSTART;TZID=America/Edmonton:20240909T190000
DTEND;TZID=America/Edmonton:20240909T190000
DTSTAMP:20260422T163457
CREATED:20240905T213739Z
LAST-MODIFIED:20240905T213739Z
UID:3688-1725908400-1725908400@stthomasunited.ca
SUMMARY:Meditative Service
DESCRIPTION:
URL:https://stthomasunited.ca/event/meditative-service/
LOCATION:St Thomas United Church\, 100 Hawkwood Blvd NW\, Calgary\, Canada
ATTACH;FMTTYPE=image/png:https://stthomasunited.ca/wp-content/uploads/2024/09/2024-09-09-meditative-worship-1280x720-1.png
END:VEVENT
BEGIN:VEVENT
DTSTART;TZID=America/Edmonton:20240908T103000
DTEND;TZID=America/Edmonton:20240908T113000
DTSTAMP:20260422T163457
CREATED:20240903T204237Z
LAST-MODIFIED:20240903T204551Z
UID:3681-1725791400-1725795000@stthomasunited.ca
SUMMARY:Sunday\, September 8\, 2024 Service\,.
DESCRIPTION:Theme: ‘Welcome back’ and Backpack Blessing \nReverend Tracy Robertson. \nYou can watch the live stream here: \nyoutube.com/live/YokiyJ3eIl0?si=_EWjgGtCb-1Wjp1m
URL:https://stthomasunited.ca/event/sunday-september-8-2024-service/
LOCATION:St Thomas United Church\, 100 Hawkwood Blvd NW\, Calgary\, Canada
ATTACH;FMTTYPE=image/png:https://stthomasunited.ca/wp-content/uploads/2024/09/2024-09-08-welcome-back-sunday-1280-x-720.png
END:VEVENT
BEGIN:VEVENT
DTSTART;TZID=America/Edmonton:20240905T191500
DTEND;TZID=America/Edmonton:20240905T210000
DTSTAMP:20260422T163457
CREATED:20240725T154215Z
LAST-MODIFIED:20240819T203719Z
UID:3625-1725563700-1725570000@stthomasunited.ca
SUMMARY:Adult Choir First Fall Practice 2024
DESCRIPTION:This will be the first fall practice for the Adult Choir. \nInterested in joining our choir? You don’t need the ability to read music. You just need a heart that wants to sing\, even just a little bit. Don’t forget to bring your smiling faces. If you don’t bring one\, we’ll do our best to give you one before you leave!
URL:https://stthomasunited.ca/event/adult-choir-first-fall-practice-2024/
LOCATION:St Thomas United Church\, 100 Hawkwood Blvd NW\, Calgary\, Canada
ATTACH;FMTTYPE=image/png:https://stthomasunited.ca/wp-content/uploads/2024/08/2024-09-05-adult-choir.png
END:VEVENT
BEGIN:VEVENT
DTSTART;TZID=America/Edmonton:20240905T180000
DTEND;TZID=America/Edmonton:20240905T191000
DTSTAMP:20260422T163457
CREATED:20240802T221023Z
LAST-MODIFIED:20240802T221023Z
UID:3641-1725559200-1725563400@stthomasunited.ca
SUMMARY:Strummers' First Fall Practice
DESCRIPTION:If you like the guitar or other strummed instrument and can pick your way through music or would like to sing along with us\, come join us at our regular rehearsals on Thursday evenings. We have a practice area where we’re all strung (sorry about that) together. We provide anthems for Church services about once a month and also provide entertainment at various Seniors’ residences on a regular basis.\n\n\nRehearsals: Thursday evenings at St. Thomas United Church from 6:00 PM to 7:10 PM.
URL:https://stthomasunited.ca/event/strummers-first-fall-practice/
ATTACH;FMTTYPE=image/png:https://stthomasunited.ca/wp-content/uploads/2024/08/2024-09-05-strummers-1280x720-1.png
END:VEVENT
BEGIN:VEVENT
DTSTART;TZID=America/Edmonton:20240905T180000
DTEND;TZID=America/Edmonton:20240905T190000
DTSTAMP:20260422T163457
CREATED:20240903T202124Z
LAST-MODIFIED:20240903T202124Z
UID:3668-1725559200-1725562800@stthomasunited.ca
SUMMARY:Children's Choir First Practice
DESCRIPTION:We are very excited to get our season up and running the Thursday after Labour Day\, September 5\, 2024. Do you know any elementary-aged kids who would like to sing in a church choir? Please let them know about our program. The commitment is one-hour rehearsals each week; Thursdays at the church from 6:00 pm to 7:00 pm\, and singing in Sunday services about once per month. We will sing our first anthem of the year on Sunday\, September 15\, 2024. \nKate Power childrens-choir@stthomasunited.ca \n 
URL:https://stthomasunited.ca/event/childrens-choir-first-practice/
LOCATION:St Thomas United Church\, 100 Hawkwood Blvd NW\, Calgary\, Canada
ATTACH;FMTTYPE=image/png:https://stthomasunited.ca/wp-content/uploads/2024/09/2024-09-05-childrens-choir-reshearsal-start.png
END:VEVENT
BEGIN:VEVENT
DTSTART;TZID=America/Edmonton:20240904T190000
DTEND;TZID=America/Edmonton:20240904T203000
DTSTAMP:20260422T163457
CREATED:20240802T221145Z
LAST-MODIFIED:20240802T221145Z
UID:3643-1725476400-1725481800@stthomasunited.ca
SUMMARY:Youth Choir First Fall Practice
DESCRIPTION:New singers welcome! No experience required. This is a musical program for youth in grade 6 to university.\nFirst Fall Practice: September 4\, 2024.\n\n\nPractices are Wednesday evenings: 7:00 pm – 8:30 pm
URL:https://stthomasunited.ca/event/youth-choir-first-fall-practice/
ATTACH;FMTTYPE=image/png:https://stthomasunited.ca/wp-content/uploads/2024/08/2024-09-04-youth-choir-1280x720-1.png
END:VEVENT
BEGIN:VEVENT
DTSTART;TZID=America/Edmonton:20240904T100000
DTEND;TZID=America/Edmonton:20240904T100000
DTSTAMP:20260422T163457
CREATED:20240903T202528Z
LAST-MODIFIED:20240903T202528Z
UID:3671-1725444000-1725444000@stthomasunited.ca
SUMMARY:September 2024 Coffee and Conversation
DESCRIPTION:Join us on : Wednesday\, September 4 at 10:00 am \nCome ready to share a coffee or tea\, some goodies and some stories (about all the wild adventures you had over the summer). \nWe look forward to having you join us.
URL:https://stthomasunited.ca/event/september-2024-coffee-and-conversation/
LOCATION:St Thomas United Church\, 100 Hawkwood Blvd NW\, Calgary\, Canada
ATTACH;FMTTYPE=image/png:https://stthomasunited.ca/wp-content/uploads/2024/09/2024-09-04-coffee-and-conversation-1280x720-1.png
END:VEVENT
BEGIN:VEVENT
DTSTART;TZID=America/Edmonton:20240808T140000
DTEND;TZID=America/Edmonton:20240808T140000
DTSTAMP:20260422T163457
CREATED:20240802T220705Z
LAST-MODIFIED:20240802T222106Z
UID:3635-1723125600-1723125600@stthomasunited.ca
SUMMARY:Miracle Treat DAy
DESCRIPTION:Come and join us at the Country Hills Village Shopping Centre Dairy Queen at 2:00 pm with your St. Thomas United Church shirt if you have one and show the community we care. Bring your lawn chairs and we can sit outside if it is not raining.\nIf you cannot join us\, consider getting a blizzard on August 8 and posting it on Facebook\, instagram or Twitter using the #st-thomas-cares hashtag with a picture or send it to\ncommunity-engagement@stthomasunited.ca
URL:https://stthomasunited.ca/event/miracle-treat-day/
ATTACH;FMTTYPE=image/png:https://stthomasunited.ca/wp-content/uploads/2024/08/2024-08-08-miracle-treat-day-1280×720.png
END:VEVENT
BEGIN:VEVENT
DTSTART;TZID=America/Edmonton:20240802T080000
DTEND;TZID=America/Edmonton:20240802T170000
DTSTAMP:20260422T163457
CREATED:20240802T222016Z
LAST-MODIFIED:20240802T222016Z
UID:3645-1722585600-1722618000@stthomasunited.ca
SUMMARY:Sunday August 4\, 2024 Service
DESCRIPTION:Please join Reverend Marion Martin in welcoming the congregations of Foothills United church and St Thomas United church for worship at 10:30 am this Sunday August 4\, 2024 at Foothills United church: 3803 69th Street NW Calgary.
URL:https://stthomasunited.ca/event/sunday-august-4-2024-service/
ATTACH;FMTTYPE=image/png:https://stthomasunited.ca/wp-content/uploads/2024/08/2024-08-03-foothills-1280x720-1.png
END:VEVENT
BEGIN:VEVENT
DTSTART;TZID=America/Edmonton:20240728T103000
DTEND;TZID=America/Edmonton:20240728T113000
DTSTAMP:20260422T163457
CREATED:20240703T210653Z
LAST-MODIFIED:20240703T210653Z
UID:3594-1722162600-1722166200@stthomasunited.ca
SUMMARY:
DESCRIPTION:Theme: ‘Urgency’ Scripture: \nMark 6:30-34\, 53-56 \nReverend Tracy Robertson \nMusic: Kari Orosz\, Elaine Taylor-Kerr\, and Elliot Harrison. \nYou can watch the live stream here: \nhttps://youtube.com/live/S7xWLzJhOz0
URL:https://stthomasunited.ca/event/3594/
LOCATION:St Thomas United Church\, 100 Hawkwood Blvd NW\, Calgary\, Canada
ATTACH;FMTTYPE=image/png:https://stthomasunited.ca/wp-content/uploads/2024/07/2024-07-28-service-image.png
END:VEVENT
BEGIN:VEVENT
DTSTART;TZID=America/Edmonton:20240721T103000
DTEND;TZID=America/Edmonton:20240721T113000
DTSTAMP:20260422T163457
CREATED:20240703T210055Z
LAST-MODIFIED:20240703T210055Z
UID:3591-1721557800-1721561400@stthomasunited.ca
SUMMARY:Sunday\, July 21 Service\, 2024.
DESCRIPTION:Theme: ‘Trust’. \nScripture: John 6:1-21. \nReverend Tracy Robertson. \nmusic: Kari Orosz\, Barb Robertson\, Jackson Xu\, and Elva Chen. \nYou can watch the live stream here: \nhttps://youtube.com/live/tQF968nQtX0
URL:https://stthomasunited.ca/event/sunday-july-21-service-2024/
ATTACH;FMTTYPE=image/jpeg:https://stthomasunited.ca/wp-content/uploads/2024/07/2024-07-21-service-image.jpg
END:VEVENT
BEGIN:VEVENT
DTSTART;TZID=America/Edmonton:20240714T103000
DTEND;TZID=America/Edmonton:20240714T113000
DTSTAMP:20260422T163457
CREATED:20240703T205215Z
LAST-MODIFIED:20240703T205215Z
UID:3588-1720953000-1720956600@stthomasunited.ca
SUMMARY:Sunday\, July 14 Service\, 2024.
DESCRIPTION:Theme: ‘Power’ \nReverend Tracy Robertson. \nScripture: Mark 6:14-29 \nMusic: Kari Orosz\, Alix Westgard\, Curtis Veer\, and Wanda Veer. \nYou can watch the live stream here: \nhttps://youtube.com/live/uM-yVXf3Cl8
URL:https://stthomasunited.ca/event/sunday-july-14-service-2024/
LOCATION:St Thomas United Church\, 100 Hawkwood Blvd NW\, Calgary\, Canada
ATTACH;FMTTYPE=image/png:https://stthomasunited.ca/wp-content/uploads/2024/07/2024-07-14-service-image.png
END:VEVENT
BEGIN:VEVENT
DTSTART;TZID=America/Edmonton:20240707T113000
DTEND;TZID=America/Edmonton:20240707T113000
DTSTAMP:20260422T163457
CREATED:20240624T164838Z
LAST-MODIFIED:20240624T165330Z
UID:3574-1720351800-1720351800@stthomasunited.ca
SUMMARY:Stampede Breakfast
DESCRIPTION:
URL:https://stthomasunited.ca/event/stampede-breakfast/
LOCATION:St. Thomas United Church: Upper Parking Lot.\, 100 Hawkwood Blvd. NW.\, Calgary\, AB\, T3G 2S9\, Canada
ATTACH;FMTTYPE=image/png:https://stthomasunited.ca/wp-content/uploads/2024/06/2024-07-07-stampede-breakfast-1280x720px.png
END:VEVENT
BEGIN:VEVENT
DTSTART;TZID=America/Edmonton:20240707T103000
DTEND;TZID=America/Edmonton:20240707T113000
DTSTAMP:20260422T163457
CREATED:20240703T204600Z
LAST-MODIFIED:20240703T204600Z
UID:3585-1720348200-1720351800@stthomasunited.ca
SUMMARY:Sunday\, July 7 Service\, 2024.
DESCRIPTION:Stampede Service \nLed by Ron French & The St. Thomas Strummers \nScripture: Psalm 8:3-8 \nYou can watch the live stream here: \nhttps://youtube.com/live/ujZB1g799Fg
URL:https://stthomasunited.ca/event/sunday-july-7-service-2024/
LOCATION:St Thomas United Church\, 100 Hawkwood Blvd NW\, Calgary\, Canada
ATTACH;FMTTYPE=image/png:https://stthomasunited.ca/wp-content/uploads/2024/07/2024-07-07-service-image.png
END:VEVENT
BEGIN:VEVENT
DTSTART;TZID=America/Edmonton:20240630T103000
DTEND;TZID=America/Edmonton:20240630T113000
DTSTAMP:20260422T163457
CREATED:20240606T180050Z
LAST-MODIFIED:20240629T220157Z
UID:3546-1719743400-1719747000@stthomasunited.ca
SUMMARY:Sunday\, June 30 Service\, 2024.
DESCRIPTION:Canada Day Service  \nTHEME: From Struggle to Celebration Reverend \nTracy Robertson \nRecorded Anthem – Canadian theme from Kari – ‘Canadian Railroad Trilogy’ \nYou can watch the live stream here: \nhttps://youtube.com/live/WYmDSrkccFQ
URL:https://stthomasunited.ca/event/sunday-june-30-service-2024/
LOCATION:St Thomas United Church\, 100 Hawkwood Blvd NW\, Calgary\, Canada
ATTACH;FMTTYPE=image/png:https://stthomasunited.ca/wp-content/uploads/2024/06/2024-06-30-service-image1280x720.png
END:VEVENT
BEGIN:VEVENT
DTSTART;TZID=America/Edmonton:20240623T103000
DTEND;TZID=America/Edmonton:20240623T113000
DTSTAMP:20260422T163457
CREATED:20240606T175226Z
LAST-MODIFIED:20240623T032402Z
UID:3543-1719138600-1719142200@stthomasunited.ca
SUMMARY:Sunday\, June 23 Service\, 2024.
DESCRIPTION:THEME: Pride Month \nWeathering the Storms Through Curiosity and Understanding \nReverend Tracy Robertson \nRecorded Anthem- Adult Choir: ‘I Will Be With You \nYou can watch the live stream here: \nhttps://youtube.com/live/TypQjT3nggg \n’
URL:https://stthomasunited.ca/event/sunday-june-23-service-2024/
LOCATION:St Thomas United Church\, 100 Hawkwood Blvd NW\, Calgary\, Canada
ATTACH;FMTTYPE=image/jpeg:https://stthomasunited.ca/wp-content/uploads/2024/06/Slide1.jpg
END:VEVENT
BEGIN:VEVENT
DTSTART;TZID=America/Edmonton:20240616T103000
DTEND;TZID=America/Edmonton:20240616T113000
DTSTAMP:20260422T163457
CREATED:20240606T172203Z
LAST-MODIFIED:20240606T172203Z
UID:3541-1718533800-1718537400@stthomasunited.ca
SUMMARY:Sunday\, June 16 Service\, 2024
DESCRIPTION:Celebrating our Father Figures \nTHEME: Explaining Faith \nReverend Tracy Robertson \nAdult Choir: We All Are One \nYou can watch the live stream here: \nhttps://youtube.com/live/DPwQHGUb7HY
URL:https://stthomasunited.ca/event/sunday-june-16-service-2024/
LOCATION:St Thomas United Church\, 100 Hawkwood Blvd NW\, Calgary\, Canada
ATTACH;FMTTYPE=image/png:https://stthomasunited.ca/wp-content/uploads/2024/06/2024-06-16-service-title.png
END:VEVENT
BEGIN:VEVENT
DTSTART;TZID=America/Edmonton:20240615T190000
DTEND;TZID=America/Edmonton:20240615T190000
DTSTAMP:20260422T163457
CREATED:20240507T190608Z
LAST-MODIFIED:20240507T191614Z
UID:3489-1718478000-1718478000@stthomasunited.ca
SUMMARY:Pride Prom 2024
DESCRIPTION:
URL:https://stthomasunited.ca/event/pride-prom-2024/
LOCATION:St Thomas United Church\, 100 Hawkwood Blvd NW\, Calgary\, Canada
ATTACH;FMTTYPE=image/png:https://stthomasunited.ca/wp-content/uploads/2024/05/2024-06-15-pride-prom-1280-x-720-.png
END:VEVENT
BEGIN:VEVENT
DTSTART;TZID=America/Edmonton:20240609T114500
DTEND;TZID=America/Edmonton:20240609T114500
DTSTAMP:20260422T163457
CREATED:20240606T182054Z
LAST-MODIFIED:20240606T182345Z
UID:3551-1717933500-1717933500@stthomasunited.ca
SUMMARY:Lunch and Learn for Indigenous History Month
DESCRIPTION:2024 Indigenous History Month \nGuest Speaker: Sandra Hayes-Gardiner \nSandra will be speaking about here recently published book: Crossing the River\, An Unsettling Memoir.
URL:https://stthomasunited.ca/event/2024-06-09-lunch-and-learn/
LOCATION:St Thomas United Church\, 100 Hawkwood Blvd NW\, Calgary\, Canada
ATTACH;FMTTYPE=image/jpeg:https://stthomasunited.ca/wp-content/uploads/2024/06/2024-06-09-lunch-and-learn-1280x720-1.jpg
END:VEVENT
BEGIN:VEVENT
DTSTART;TZID=America/Edmonton:20240609T103000
DTEND;TZID=America/Edmonton:20240609T113000
DTSTAMP:20260422T163457
CREATED:20240606T165932Z
LAST-MODIFIED:20240606T170700Z
UID:3530-1717929000-1717932600@stthomasunited.ca
SUMMARY:Sunday\, June 9 Service\, 2024
DESCRIPTION:Indigenous Awareness Sunday. \nReverend Tracy Robertson. \nMusic by : Strummers – “William Twin” and “The Garden Song”. \nAccompanist\, preludeist\, and postludeist: Kari Orosz. \nYou can watch the live stream here: \nhttps://youtube.com/live/Kh1Luz6tGlU
URL:https://stthomasunited.ca/event/sunday-june-9-service-2024/
LOCATION:ST. David’s United Church\, 3303 Capitol Hill Crescent NW\, Calgary\, AB\, T2M 2R2\, Canada
ATTACH;FMTTYPE=image/png:https://stthomasunited.ca/wp-content/uploads/2024/06/2024-06-92-service-title.png
END:VEVENT
BEGIN:VEVENT
DTSTART;TZID=America/Edmonton:20240531T173000
DTEND;TZID=America/Edmonton:20240531T173000
DTSTAMP:20260422T163457
CREATED:20240522T211530Z
LAST-MODIFIED:20240522T212634Z
UID:3500-1717176600-1717176600@stthomasunited.ca
SUMMARY:Ladies Night Out
DESCRIPTION:
URL:https://stthomasunited.ca/event/ladies-night-out/
LOCATION:Foothills United Church\, 3803 69 Street NW\, Calgary\, AB\, T3B 2J9\, Canada
ATTACH;FMTTYPE=image/png:https://stthomasunited.ca/wp-content/uploads/2024/05/2024-05-31-ladies-night-out.png
END:VEVENT
BEGIN:VEVENT
DTSTART;TZID=America/Edmonton:20240526T103000
DTEND;TZID=America/Edmonton:20240526T113000
DTSTAMP:20260422T163457
CREATED:20240506T185357Z
LAST-MODIFIED:20240522T210636Z
UID:3486-1716719400-1716723000@stthomasunited.ca
SUMMARY:Sunday\, May 26 Service\, 2024
DESCRIPTION:Youth Service \nReverend Tracy Robertson \nAdult Choir and Youth Choir – ‘A Place in the Choir’ by Bill Staines \nYou can watch the live stream here: \nhttps://youtube.com/live/14BWev2JqdQ
URL:https://stthomasunited.ca/event/sunday-may-26-service-2024/
LOCATION:St Thomas United Church\, 100 Hawkwood Blvd NW\, Calgary\, Canada
ATTACH;FMTTYPE=image/jpeg:https://stthomasunited.ca/wp-content/uploads/2024/05/service-title-card.jpg
END:VEVENT
BEGIN:VEVENT
DTSTART;TZID=America/Edmonton:20240525T100000
DTEND;TZID=America/Edmonton:20240525T120000
DTSTAMP:20260422T163457
CREATED:20240522T213032Z
LAST-MODIFIED:20240523T164638Z
UID:3503-1716631200-1716638400@stthomasunited.ca
SUMMARY:Spring Clean Up 2024
DESCRIPTION:Date: Saturday\, May 25\, 2024\, weather permitting. \nJune 1\, 2024 back-up date. \nTime: 10:00 am to Noon \nPlease join us! You’ll see folks you haven’t seen for awhile and help to clean-up and prepare our church yard for the fairer season. Please bring a rake \nand gardening gloves.
URL:https://stthomasunited.ca/event/spring-clean-up-2024/
LOCATION:St Thomas United Church\, 100 Hawkwood Blvd NW\, Calgary\, Canada
ATTACH;FMTTYPE=image/png:https://stthomasunited.ca/wp-content/uploads/2024/05/2024-05-25-yard-clean-up-1280x720-1.png
END:VEVENT
BEGIN:VEVENT
DTSTART;TZID=America/Edmonton:20240519T103000
DTEND;TZID=America/Edmonton:20240519T113000
DTSTAMP:20260422T163457
CREATED:20240506T184807Z
LAST-MODIFIED:20240506T184807Z
UID:3483-1716114600-1716118200@stthomasunited.ca
SUMMARY:Sunday\, May 19 Service\, 2024
DESCRIPTION:Pentecost & Communion \nActs 2:1–21 \nReverend Tracy Robertson \nAdult Choir – ‘Come Down\, Lord’ by Stan Pethel \nYou can watch the live stream here: \nhttps://youtube.com/live/14BWev2JqdQ
URL:https://stthomasunited.ca/event/sunday-may-19-service-2024/
LOCATION:St Thomas United Church\, 100 Hawkwood Blvd NW\, Calgary\, Canada
ATTACH;FMTTYPE=image/png:https://stthomasunited.ca/wp-content/uploads/2024/05/2024-05-19-service-titles.png
END:VEVENT
BEGIN:VEVENT
DTSTART;TZID=America/Edmonton:20240518T090000
DTEND;TZID=America/Edmonton:20240518T130000
DTSTAMP:20260422T163457
CREATED:20240429T183601Z
LAST-MODIFIED:20240429T183601Z
UID:3461-1716022800-1716037200@stthomasunited.ca
SUMMARY:Garage Sale 2024
DESCRIPTION:Donations can be brought to the church (upper parking lot) on Friday\, May 17 between 4:00 pm and 8:00 pm \nBring household items\, books\, sporting goods\, toys\, tools\, craft material\, antiques\, puzzles\, hardware\, plants\, small household appliances\, bedding and towels\,  and pictures /paintings and the list goes on …. \nItems we will NOT accept: \nFurniture\, car seats or infant furniture\, weapons\, hazardous waste\, construction materials\, large appliances\, stereo consuls\, flammable products\, food\, carpets\, newspapers\, encyclopedias\, swing sets\, TVs\, computer monitors\, mattresses\, waterbeds\, auto parts\, and clothes. \nItems should be clean and in good working order. \nVolunteers Needed: \n\nSetup the tables and bookcases – Friday\, May 17 3:00 – 4:00 pm\nSorting and pricing – Friday\, 4:00 – 8:00 pm\nThe Sale Saturday\, May 18\, 2024 9:00 am – 1:00 pm  Staffing the tables\nCleanup – 1:00 – 2:30 pm. Boxing items left over\, loading the Diabetes truck\, and cleaning the church.\n\nAND OF COURSE LAUGHTER IS INCLUDED AND EXPECTED!
URL:https://stthomasunited.ca/event/garage-sale-2024/
LOCATION:St. Thomas United Church: Upper Parking Lot.\, 100 Hawkwood Blvd. NW.\, Calgary\, AB\, T3G 2S9\, Canada
ATTACH;FMTTYPE=image/png:https://stthomasunited.ca/wp-content/uploads/2024/04/2024-05-18-stuc-garage-sale-1280x720-1.png
END:VEVENT
BEGIN:VEVENT
DTSTART;TZID=America/Edmonton:20240513T190000
DTEND;TZID=America/Edmonton:20240513T190000
DTSTAMP:20260422T163457
CREATED:20240502T164430Z
LAST-MODIFIED:20240502T164430Z
UID:3474-1715626800-1715626800@stthomasunited.ca
SUMMARY:Meditative Service\, May 13\, 2024
DESCRIPTION:
URL:https://stthomasunited.ca/event/meditative-service-may-13-2024/
ATTACH;FMTTYPE=image/png:https://stthomasunited.ca/wp-content/uploads/2024/05/2024-05-13-meditative-worship-1280x720-1.png
END:VEVENT
BEGIN:VEVENT
DTSTART;TZID=America/Edmonton:20240512T103000
DTEND;TZID=America/Edmonton:20240512T113000
DTSTAMP:20260422T163457
CREATED:20240506T184110Z
LAST-MODIFIED:20240506T184559Z
UID:3480-1715509800-1715513400@stthomasunited.ca
SUMMARY:Sunday\, May 12 Service\, 2024
DESCRIPTION:Celebrating our Mother Figures \nTheme: Re-writing Our Stories \nActs 1:15-17\, 21-26 \nReverend Tracy Robertson \nAdult and Children’s Choirs joint piece – ‘Somebody’s Knockin’ \nYou can watch the live stream here: \nhttps://youtube.com/live/14BWev2JqdQ
URL:https://stthomasunited.ca/event/sunday-may-12-service-2024/
LOCATION:St Thomas United Church\, 100 Hawkwood Blvd NW\, Calgary\, Canada
ATTACH;FMTTYPE=image/png:https://stthomasunited.ca/wp-content/uploads/2024/05/2024-05-12-service-titles.png
END:VEVENT
BEGIN:VEVENT
DTSTART;TZID=America/Edmonton:20240505T103000
DTEND;TZID=America/Edmonton:20240505T113000
DTSTAMP:20260422T163457
CREATED:20240411T192706Z
LAST-MODIFIED:20240502T164121Z
UID:3425-1714905000-1714908600@stthomasunited.ca
SUMMARY:Sunday\, May 5\, 2024 Service
DESCRIPTION:Beatles Sermon Series – “Influencers” \nIsaiah 55:10-11\, John 15:12\, 16-17 \nReverend Tracy Robertson \nOrchestra \nYou can watch the live stream here: \nhttps://youtube.com/live/KHafYCy__e8
URL:https://stthomasunited.ca/event/sunday-may-4-service/
ATTACH;FMTTYPE=image/png:https://stthomasunited.ca/wp-content/uploads/2024/04/2024-05-05-service-titles.png
END:VEVENT
BEGIN:VEVENT
DTSTART;TZID=America/Edmonton:20240428T103000
DTEND;TZID=America/Edmonton:20240428T113000
DTSTAMP:20260422T163457
CREATED:20240411T193527Z
LAST-MODIFIED:20240411T193527Z
UID:3437-1714300200-1714303800@stthomasunited.ca
SUMMARY:Sunday\, April 28\, 2024 Service
DESCRIPTION:Camp Sunday \nBeatles Sermon Series – INTERGENERATIONAL – “Renewal” \nIsaiah 40:31\, Matthew 6:6 \nReverend Tracy Robertson \nReverend Marion Martin (Pre-recorded) \nChildren’s Choir\, Anthem by Kari Orosz \nYou can watch the live stream here: \nhttps://youtube.com/live/14BWev2JqdQ
URL:https://stthomasunited.ca/event/sunday-april-28-2024-service/
LOCATION:St Thomas United Church\, 100 Hawkwood Blvd NW\, Calgary\, Canada
ATTACH;FMTTYPE=image/png:https://stthomasunited.ca/wp-content/uploads/2024/04/2024-04-28-service-titles.png
END:VEVENT
END:VCALENDAR