BEGIN:VCALENDAR
VERSION:2.0
PRODID:-//St Thomas United Church NW Calgary - ECPv6.15.20//NONSGML v1.0//EN
CALSCALE:GREGORIAN
METHOD:PUBLISH
X-WR-CALNAME:St Thomas United Church NW Calgary
X-ORIGINAL-URL:https://stthomasunited.ca
X-WR-CALDESC:Events for St Thomas United Church NW Calgary
REFRESH-INTERVAL;VALUE=DURATION:PT1H
X-Robots-Tag:noindex
X-PUBLISHED-TTL:PT1H
BEGIN:VTIMEZONE
TZID:America/Edmonton
BEGIN:DAYLIGHT
TZOFFSETFROM:-0700
TZOFFSETTO:-0600
TZNAME:MDT
DTSTART:20240310T090000
END:DAYLIGHT
BEGIN:STANDARD
TZOFFSETFROM:-0600
TZOFFSETTO:-0700
TZNAME:MST
DTSTART:20241103T080000
END:STANDARD
BEGIN:DAYLIGHT
TZOFFSETFROM:-0700
TZOFFSETTO:-0600
TZNAME:MDT
DTSTART:20250309T090000
END:DAYLIGHT
BEGIN:STANDARD
TZOFFSETFROM:-0600
TZOFFSETTO:-0700
TZNAME:MST
DTSTART:20251102T080000
END:STANDARD
BEGIN:DAYLIGHT
TZOFFSETFROM:-0700
TZOFFSETTO:-0600
TZNAME:MDT
DTSTART:20260308T090000
END:DAYLIGHT
BEGIN:STANDARD
TZOFFSETFROM:-0600
TZOFFSETTO:-0700
TZNAME:MST
DTSTART:20261101T080000
END:STANDARD
END:VTIMEZONE
BEGIN:VEVENT
DTSTART;TZID=America/Edmonton:20251105T173000
DTEND;TZID=America/Edmonton:20251105T173000
DTSTAMP:20260421T235202
CREATED:20251023T195408Z
LAST-MODIFIED:20251023T195539Z
UID:4347-1762363800-1762363800@stthomasunited.ca
SUMMARY:Intercultural Potluck
DESCRIPTION:
URL:https://stthomasunited.ca/event/intercultural-potluck/
ATTACH;FMTTYPE=image/png:https://stthomasunited.ca/wp-content/uploads/2025/10/2025-11-05-potluck-1280x720-1.png
END:VEVENT
BEGIN:VEVENT
DTSTART;TZID=America/Edmonton:20251108T100000
DTEND;TZID=America/Edmonton:20251108T140000
DTSTAMP:20260421T235202
CREATED:20251017T173054Z
LAST-MODIFIED:20251107T191432Z
UID:4339-1762596000-1762610400@stthomasunited.ca
SUMMARY:Fall Fair- Pre Christmas Market November 8 and 9\, 2025
DESCRIPTION:Click here for a list of the vendors that are attending \nSt. Thomas United Church fall Market cannot guarantee that all the above vendors will be in attendance as things fluctuate.
URL:https://stthomasunited.ca/event/fall-fair-pre-christmas-market-november-8-and-9-2025/
LOCATION:St. Thomas United Church: Narthex\, 100 Hawkwood Blvd\, NW\, Calgary\, AB\, T3G 2S9\, Canada
ATTACH;FMTTYPE=image/png:https://stthomasunited.ca/wp-content/uploads/2025/11/2025-11-08-vendor-market-1280x720-1.png
END:VEVENT
BEGIN:VEVENT
DTSTART;TZID=America/Edmonton:20251109T113000
DTEND;TZID=America/Edmonton:20251109T133000
DTSTAMP:20260421T235202
CREATED:20251017T173305Z
LAST-MODIFIED:20251107T192105Z
UID:4342-1762687800-1762695000@stthomasunited.ca
SUMMARY:Fall Fair- Pre Christmas Market November 8 and 9\, 2025
DESCRIPTION:Click here for a list of the vendors that are attending \nSt. Thomas United Church fall Market cannot guarantee that all the above vendors will be in attendance as things fluctuate.
URL:https://stthomasunited.ca/event/fall-fair-pre-christmas-market-november-8-and-9-2025-2/
LOCATION:St. Thomas United Church: Upper Parking Lot.\, 100 Hawkwood Blvd. NW.\, Calgary\, AB\, T3G 2S9\, Canada
ATTACH;FMTTYPE=image/png:https://stthomasunited.ca/wp-content/uploads/2025/11/2025-11-08-vendor-market-1280x720-1.png
END:VEVENT
BEGIN:VEVENT
DTSTART;TZID=America/Edmonton:20251120T093000
DTEND;TZID=America/Edmonton:20251120T093000
DTSTAMP:20260421T235202
CREATED:20251113T220237Z
LAST-MODIFIED:20251113T220316Z
UID:4375-1763631000-1763631000@stthomasunited.ca
SUMMARY:Christmas Decorating\, 2025
DESCRIPTION:Calling all those who’d like to help decorate for Christmas\nIf you’d like to help set up and decorate our narthex and sanctuary Christmas trees\, and deck our halls with a few ornaments\, then please join Lori Weller on Thursday\, November 20\, 2025\, at 9:30am. We look forward to seeing you!
URL:https://stthomasunited.ca/event/christmas-decorating-2025/
LOCATION:St Thomas United Church\, 100 Hawkwood Blvd NW\, Calgary\, Canada
ATTACH;FMTTYPE=image/png:https://stthomasunited.ca/wp-content/uploads/2025/11/2025-11-20-christmas-decorating-1280x720-1.png
END:VEVENT
BEGIN:VEVENT
DTSTART;TZID=America/Edmonton:20251126T183000
DTEND;TZID=America/Edmonton:20251126T183000
DTSTAMP:20260421T235202
CREATED:20250910T203534Z
LAST-MODIFIED:20250910T203653Z
UID:4289-1764181800-1764181800@stthomasunited.ca
SUMMARY:November Drumming Circle at Foothills United Church
DESCRIPTION:
URL:https://stthomasunited.ca/event/november-drumming-circle-at-foothills-united-church/
ATTACH;FMTTYPE=image/jpeg:https://stthomasunited.ca/wp-content/uploads/2025/09/2025-11-26-drumming-circle-1280x720-1.jpg
END:VEVENT
END:VCALENDAR